BEGIN:VCALENDAR
VERSION:2.0
PRODID:-//UM//UM*Events//EN
CALSCALE:GREGORIAN
BEGIN:VTIMEZONE
TZID:America/Detroit
TZURL:http://tzurl.org/zoneinfo/America/Detroit
X-LIC-LOCATION:America/Detroit
BEGIN:DAYLIGHT
TZOFFSETFROM:-0500
TZOFFSETTO:-0400
TZNAME:EDT
DTSTART:20070311T020000
RRULE:FREQ=YEARLY;BYMONTH=3;BYDAY=2SU
END:DAYLIGHT
BEGIN:STANDARD
TZOFFSETFROM:-0400
TZOFFSETTO:-0500
TZNAME:EST
DTSTART:20071104T020000
RRULE:FREQ=YEARLY;BYMONTH=11;BYDAY=1SU
END:STANDARD
END:VTIMEZONE
BEGIN:VEVENT
DTSTAMP:20230530T133246
DTSTART;TZID=America/Detroit:20230708T000100
DTEND;TZID=America/Detroit:20230708T235900
SUMMARY:Class / Instruction:Summer Session in Epidemiology
DESCRIPTION:Summer Session in Epidemiology Courses Offered July 10 - July 28\, 2023\nhttps://sph.umich.edu/umsse/\n$50 late registration fee applies after May 31\, 2023\n\n2023 Courses can be taken Online or In-Person depending on the course. \nIn-Person courses will have a remote option as well (i.e. live attendance via Zoom). \nRegistration for 3 or more courses within a cluster receive 25% discount
UID:105658-21819513@events.umich.edu
URL:https://events.umich.edu/event/105658
CLASS:PUBLIC
STATUS:CONFIRMED
CATEGORIES:Education,Epidemiology,Professional Development,Virtual
LOCATION:Off Campus Location
CONTACT:
END:VEVENT
BEGIN:VEVENT
DTSTAMP:20230524T141141
DTSTART;TZID=America/Detroit:20230708T090000
DTEND;TZID=America/Detroit:20230708T200000
SUMMARY:Exhibition:Selections from the Special Collections Research Center
DESCRIPTION:Enjoy a selection of materials from the Special Collections Research Center\, from 16th century woodcuts of military weapons and devices\, to lithographs of 19th century Parisian prison\, to a 20th century manuscript poem by poet Robert Hayden.\n\nAvailable during Hatcher Gallery Exhibit Room hours (https://myumi.ch/2m7d4).
UID:108321-21819325@events.umich.edu
URL:https://events.umich.edu/event/108321
CLASS:PUBLIC
STATUS:CONFIRMED
CATEGORIES:Books,Exhibition,Free,Library
LOCATION:Hatcher Graduate Library - Hatcher Gallery Exhibit Room
CONTACT:
END:VEVENT
END:VCALENDAR