BEGIN:VCALENDAR
VERSION:2.0
PRODID:-//UM//UM*Events//EN
CALSCALE:GREGORIAN
BEGIN:VTIMEZONE
TZID:America/Detroit
TZURL:http://tzurl.org/zoneinfo/America/Detroit
X-LIC-LOCATION:America/Detroit
BEGIN:DAYLIGHT
TZOFFSETFROM:-0500
TZOFFSETTO:-0400
TZNAME:EDT
DTSTART:20070311T020000
RRULE:FREQ=YEARLY;BYMONTH=3;BYDAY=2SU
END:DAYLIGHT
BEGIN:STANDARD
TZOFFSETFROM:-0400
TZOFFSETTO:-0500
TZNAME:EST
DTSTART:20071104T020000
RRULE:FREQ=YEARLY;BYMONTH=11;BYDAY=1SU
END:STANDARD
END:VTIMEZONE
BEGIN:VEVENT
DTSTAMP:20230406T112532
DTSTART;TZID=America/Detroit:20230713T200000
SUMMARY:Performance:Joe Jencks
DESCRIPTION:\"A fantastic singer who carries on the traditions\"—Pete Seeger\n \nChicago-based singer and activist Joe Jencks (you may remember him from the fine trio act Brother Sun) has performed with such artists as Pete Seeger\, Utah Phillips\, Joe Glazer\, and Charlie King. A Joe Jencks concert\, says the Seattle Folklore Society's Brad Warren\, is \"an occasion for singing\, a contagious rising up of voices\, an act of joy and defiance.\" Joe's songs have traveled to every continent via his own performances\, radio\, CDs\, webcasts\, and other musicians. He is noted for his unique merging of musical beauty\, social consciousness\, and spiritual exploration. Joe Jencks weaves a diverse web of stories with brilliant musical skill\, ensnaring even the most rigid of hearts\, inviting them to open. His songs invite us to live inside of our passions and our beliefs.\n\n\n\nPlease visit https://mutotix.umich.edu/4090/4091 for more detail.
UID:107160-21815457@events.umich.edu
URL:https://events.umich.edu/event/107160
CLASS:PUBLIC
STATUS:CONFIRMED
CATEGORIES:Ark,Mutotix
LOCATION:ARK Reserved
CONTACT:
END:VEVENT
BEGIN:VEVENT
DTSTAMP:20230503T154743
DTSTART;TZID=America/Detroit:20230714T083000
DTEND;TZID=America/Detroit:20230714T150000
SUMMARY:Community Service:Volunteer w/ Xplore Engineering
DESCRIPTION:Work with Xplore Engineering to launch bottle rockets with 4-7th graders. \n\nInterested in volunteering? Please reach out to Tyler Eddy at clasp-gusto@umich.edu\, so we can train and get you set-up.
UID:107943-21818593@events.umich.edu
URL:https://events.umich.edu/event/107943
CLASS:PUBLIC
STATUS:CONFIRMED
CATEGORIES:Volunteer,Student Org,Education,Community Service,College Of Engineering,Climate and Space Sciences and Engineering
LOCATION:
CONTACT:
END:VEVENT
END:VCALENDAR