BEGIN:VCALENDAR
VERSION:2.0
PRODID:-//UM//UM*Events//EN
CALSCALE:GREGORIAN
BEGIN:VTIMEZONE
TZID:America/Detroit
TZURL:http://tzurl.org/zoneinfo/America/Detroit
X-LIC-LOCATION:America/Detroit
BEGIN:DAYLIGHT
TZOFFSETFROM:-0500
TZOFFSETTO:-0400
TZNAME:EDT
DTSTART:20070311T020000
RRULE:FREQ=YEARLY;BYMONTH=3;BYDAY=2SU
END:DAYLIGHT
BEGIN:STANDARD
TZOFFSETFROM:-0400
TZOFFSETTO:-0500
TZNAME:EST
DTSTART:20071104T020000
RRULE:FREQ=YEARLY;BYMONTH=11;BYDAY=1SU
END:STANDARD
END:VTIMEZONE
BEGIN:VEVENT
DTSTAMP:20230515T151956
DTSTART;TZID=America/Detroit:20230714T120000
DTEND;TZID=America/Detroit:20230714T130000
SUMMARY:Workshop / Seminar:MCDB Seminar> Mosquito receptors that detect human odor
DESCRIPTION:Host: Josie Clowney
UID:108092-21818932@events.umich.edu
URL:https://events.umich.edu/event/108092
CLASS:PUBLIC
STATUS:CONFIRMED
CATEGORIES:Biology,Science,Research,Neuroscience,Natural Sciences,Bsbsigns,Biosciences,Basic Science
LOCATION:Biological Sciences Building - 1010
CONTACT:
END:VEVENT
BEGIN:VEVENT
DTSTAMP:20230716T180007
DTSTART;TZID=America/Detroit:20230714T120000
DTEND;TZID=America/Detroit:20230714T235959
SUMMARY:Other:Port Huron Boat Weekend 
DESCRIPTION:Port Huron Boat Weekend
UID:109067-21821022@events.umich.edu
URL:https://events.umich.edu/event/109067
CLASS:PUBLIC
STATUS:CONFIRMED
CATEGORIES:
LOCATION:Port Huron, MI
CONTACT:
END:VEVENT
END:VCALENDAR