BEGIN:VCALENDAR
VERSION:2.0
PRODID:-//UM//UM*Events//EN
CALSCALE:GREGORIAN
BEGIN:VTIMEZONE
TZID:America/Detroit
TZURL:http://tzurl.org/zoneinfo/America/Detroit
X-LIC-LOCATION:America/Detroit
BEGIN:DAYLIGHT
TZOFFSETFROM:-0500
TZOFFSETTO:-0400
TZNAME:EDT
DTSTART:20070311T020000
RRULE:FREQ=YEARLY;BYMONTH=3;BYDAY=2SU
END:DAYLIGHT
BEGIN:STANDARD
TZOFFSETFROM:-0400
TZOFFSETTO:-0500
TZNAME:EST
DTSTART:20071104T020000
RRULE:FREQ=YEARLY;BYMONTH=11;BYDAY=1SU
END:STANDARD
END:VTIMEZONE
BEGIN:VEVENT
DTSTAMP:20230623T123105
DTSTART;TZID=America/Detroit:20230714T123000
DTEND;TZID=America/Detroit:20230714T143000
SUMMARY:Careers / Jobs:Students & Grads Virtual Event: Q&A with Former Capital One Tech Interns
DESCRIPTION:Want to know what it's like to be part of Capital One's Technology Internship Program?  We invite you to register for Capital One Tech Chats to ask questions about our internship program with former interns andnow current Technology Associates. You can also learn more about #LifeatCapitalOne\, our culture\, project areas\, and more.\n\nInformation on scheduling 1:1 conversations to be added soon!
UID:108433-21819586@events.umich.edu
URL:https://events.umich.edu/event/108433
CLASS:PUBLIC
STATUS:CONFIRMED
CATEGORIES:
LOCATION:
CONTACT:
END:VEVENT
BEGIN:VEVENT
DTSTAMP:20230729T123053
DTSTART;TZID=America/Detroit:20230714T143000
DTEND;TZID=America/Detroit:20230714T153000
SUMMARY:Careers / Jobs:Ask An Agent
DESCRIPTION:This is an hour information session with a Special Agent and recruiter for the Los Angeles Division of the FBI.  This session will coverthe Special Agent Program\, hiring\, application and training.  Instructions for using Microsoft Teams are attached to this event.
UID:109061-21821016@events.umich.edu
URL:https://events.umich.edu/event/109061
CLASS:PUBLIC
STATUS:CONFIRMED
CATEGORIES:
LOCATION:
CONTACT:
END:VEVENT
END:VCALENDAR