BEGIN:VCALENDAR
VERSION:2.0
PRODID:-//UM//UM*Events//EN
CALSCALE:GREGORIAN
BEGIN:VTIMEZONE
TZID:America/Detroit
TZURL:http://tzurl.org/zoneinfo/America/Detroit
X-LIC-LOCATION:America/Detroit
BEGIN:DAYLIGHT
TZOFFSETFROM:-0500
TZOFFSETTO:-0400
TZNAME:EDT
DTSTART:20070311T020000
RRULE:FREQ=YEARLY;BYMONTH=3;BYDAY=2SU
END:DAYLIGHT
BEGIN:STANDARD
TZOFFSETFROM:-0400
TZOFFSETTO:-0500
TZNAME:EST
DTSTART:20071104T020000
RRULE:FREQ=YEARLY;BYMONTH=11;BYDAY=1SU
END:STANDARD
END:VTIMEZONE
BEGIN:VEVENT
DTSTAMP:20230613T121603
DTSTART;TZID=America/Detroit:20230714T190000
DTEND;TZID=America/Detroit:20230714T200000
SUMMARY:Performance:Center Stage Strings: Finale Concert
DESCRIPTION:Center Stage Strings (CSS)—one of SMTD’s MPulse performing arts summer programs for youth—welcomes the public to a series of live concerts\, free to attend in-person on campus or to watch from anywhere via Livestream.\n\nCSS was founded by renowned violinist and SMTD Professor Danielle Belen to develop the talents of serious young classical music students in the areas of solo and chamber music performance. Learn more at centerstagestrings.net.
UID:108457-21819612@events.umich.edu
URL:https://events.umich.edu/event/108457
CLASS:PUBLIC
STATUS:CONFIRMED
CATEGORIES:
LOCATION:Off Campus Location
CONTACT:
END:VEVENT
BEGIN:VEVENT
DTSTAMP:20230406T103643
DTSTART;TZID=America/Detroit:20230714T200000
SUMMARY:Performance:Iris DeMent
DESCRIPTION:Beautiful homespun songs with deep conviction\n \nThe youngest of 14 children\, Iris DeMent was born in Paragould\, Arkansas\, and moved to California with her devoutly religious family when she was three. As a teenager she absorbed the country music of Loretta Lynn\, Merle Haggard\, and Johnny Cash\, as well as the folk classics of Bob Dylan and Joni Mitchell. Her 1992 debut album\, \"Infamous Angel\,\" distilled these influences into a poetic yet down-to-earth songwriting style. With a heartfelt\, homespun voice that listeners recognize instantly\, Iris released some of the most powerful roots albums of the 1990s with the beautifully sparse \"My Life\" and the harder-edged \"The Way I Should.\" She has continued to make powerful and distinctive albums on her own schedule\, and her latest\, just out\, is “Workin’ on a World.” This striking collection of songs faces the modern world—as it is right now—with its climate catastrophe\, pandemic illness\, and epidemic of violence and social injustice. The album not only asks us how we can keep working towards a better world\, but implores us to love each other\, despite our very different ways of seeing. Her songs are her way of healing our broken inner and outer spaces. \n\n\n\nPlease visit https://mutotix.umich.edu/4076/4077 for more detail.
UID:107153-21815450@events.umich.edu
URL:https://events.umich.edu/event/107153
CLASS:PUBLIC
STATUS:CONFIRMED
CATEGORIES:Ark,Mutotix
LOCATION:ARK Reserved
CONTACT:
END:VEVENT
END:VCALENDAR