BEGIN:VCALENDAR
VERSION:2.0
PRODID:-//UM//UM*Events//EN
CALSCALE:GREGORIAN
BEGIN:VTIMEZONE
TZID:America/Detroit
TZURL:http://tzurl.org/zoneinfo/America/Detroit
X-LIC-LOCATION:America/Detroit
BEGIN:DAYLIGHT
TZOFFSETFROM:-0500
TZOFFSETTO:-0400
TZNAME:EDT
DTSTART:20070311T020000
RRULE:FREQ=YEARLY;BYMONTH=3;BYDAY=2SU
END:DAYLIGHT
BEGIN:STANDARD
TZOFFSETFROM:-0400
TZOFFSETTO:-0500
TZNAME:EST
DTSTART:20071104T020000
RRULE:FREQ=YEARLY;BYMONTH=11;BYDAY=1SU
END:STANDARD
END:VTIMEZONE
BEGIN:VEVENT
DTSTAMP:20230715T000006
DTSTART;TZID=America/Detroit:20230714T213000
DTEND;TZID=America/Detroit:20230715T010000
SUMMARY:Recreational / Games:A2ML Monthly Social
DESCRIPTION:LOCATION: Hoover St Studio (323 E Hoover Ave)PRICE: $10 for students\, included in monthly passTime: 9:30pm - 1:30amCome dance with us at the Hoover St Studio and enjoy a night filled with music from all the styles we do: bachata\, casino\, salsa and more! No previous experience or partner necessary. We ask that you come with dance shoes or socks to dance in. From 11pm - 12am\, we will have a special ‼️BACHATA POWER HOUR‼️We hope to dance with all of you then!
UID:108881-21820508@events.umich.edu
URL:https://events.umich.edu/event/108881
CLASS:PUBLIC
STATUS:CONFIRMED
CATEGORIES:
LOCATION:Hoover St Studio
CONTACT:
END:VEVENT
BEGIN:VEVENT
DTSTAMP:20230716T180007
DTSTART;TZID=America/Detroit:20230715T000000
DTEND;TZID=America/Detroit:20230715T235959
SUMMARY:Other:Port Huron Boat Weekend 
DESCRIPTION:Port Huron Boat Weekend
UID:109067-21821023@events.umich.edu
URL:https://events.umich.edu/event/109067
CLASS:PUBLIC
STATUS:CONFIRMED
CATEGORIES:
LOCATION:Port Huron, MI
CONTACT:
END:VEVENT
END:VCALENDAR