BEGIN:VCALENDAR
VERSION:2.0
PRODID:-//UM//UM*Events//EN
CALSCALE:GREGORIAN
BEGIN:VTIMEZONE
TZID:America/Detroit
TZURL:http://tzurl.org/zoneinfo/America/Detroit
X-LIC-LOCATION:America/Detroit
BEGIN:DAYLIGHT
TZOFFSETFROM:-0500
TZOFFSETTO:-0400
TZNAME:EDT
DTSTART:20070311T020000
RRULE:FREQ=YEARLY;BYMONTH=3;BYDAY=2SU
END:DAYLIGHT
BEGIN:STANDARD
TZOFFSETFROM:-0400
TZOFFSETTO:-0500
TZNAME:EST
DTSTART:20071104T020000
RRULE:FREQ=YEARLY;BYMONTH=11;BYDAY=1SU
END:STANDARD
END:VTIMEZONE
BEGIN:VEVENT
DTSTAMP:20230413T105854
DTSTART;TZID=America/Detroit:20230715T200000
SUMMARY:Performance:The Tillers
DESCRIPTION:Distinctive string band folk music from Cincinnati\n\nThe Tillers are Mike Oberst\, Sean Geil\, Aaron Geil & Joe Macheret. The Tillers arose out of Cincinnati’s West Side punk scene and have been thumping their own distinctive sound of string band style folk music for a decade\, riding it all over the country and across the sea. Four studio albums and one live record have won them praise as modern folk storytellers of the national soundscape. Their shows attract an assortment of gray-haired mechanics\, neo-hippies\, farmers\, punkers\, professors\, and random strays all stomping\, clapping\, singing\, and belting outbursts of “John Henry!” and “Darlin’ Corey.” Check out the Ark debut of this unique Ohio group!\n\nPlease visit https://mutotix.umich.edu/4104/4105 for more detail.
UID:107444-21816034@events.umich.edu
URL:https://events.umich.edu/event/107444
CLASS:PUBLIC
STATUS:CONFIRMED
CATEGORIES:Ark,Mutotix
LOCATION:ARK Reserved
CONTACT:
END:VEVENT
BEGIN:VEVENT
DTSTAMP:20230716T180007
DTSTART;TZID=America/Detroit:20230716T000000
DTEND;TZID=America/Detroit:20230716T235959
SUMMARY:Other:Port Huron Boat Weekend 
DESCRIPTION:Port Huron Boat Weekend
UID:109067-21821024@events.umich.edu
URL:https://events.umich.edu/event/109067
CLASS:PUBLIC
STATUS:CONFIRMED
CATEGORIES:
LOCATION:Port Huron, MI
CONTACT:
END:VEVENT
END:VCALENDAR