BEGIN:VCALENDAR
VERSION:2.0
PRODID:-//UM//UM*Events//EN
CALSCALE:GREGORIAN
BEGIN:VTIMEZONE
TZID:America/Detroit
TZURL:http://tzurl.org/zoneinfo/America/Detroit
X-LIC-LOCATION:America/Detroit
BEGIN:DAYLIGHT
TZOFFSETFROM:-0500
TZOFFSETTO:-0400
TZNAME:EDT
DTSTART:20070311T020000
RRULE:FREQ=YEARLY;BYMONTH=3;BYDAY=2SU
END:DAYLIGHT
BEGIN:STANDARD
TZOFFSETFROM:-0400
TZOFFSETTO:-0500
TZNAME:EST
DTSTART:20071104T020000
RRULE:FREQ=YEARLY;BYMONTH=11;BYDAY=1SU
END:STANDARD
END:VTIMEZONE
BEGIN:VEVENT
DTSTAMP:20230614T181504
DTSTART;TZID=America/Detroit:20230708T110000
DTEND;TZID=America/Detroit:20230708T170000
SUMMARY:Exhibition:Envision: The Michigan Artist Initiative 2023
DESCRIPTION:Organized by Stamps Gallery at the University of Michigan\, Envision: The Michigan Artist Initiative 2023 is an exhibition and awards program designed to support the development of contemporary artists living and working in Michigan. In its second iteration\, the program recognizes the creativity\, rigor\, and innovation of Michigan-based artists and collaboratives — and honors their role in inspiring the next generations of artists in our state. This initiative showcases the excellence and artistic merit of contemporary art practices in Michigan.\nIn the of fall of 2022\, Stamps Gallery announced an open call for artwork\, inviting emerging and mid-career contemporary artists from Michigan working in all types of media to apply. We received 309 applications\, a record number for the program. \n A shortlist of three artists were selected by a prominent national panel of jurors: Neil A. Barclay\, President &amp\; CEO of Charles Wright Museum of African American Art\, Shannon Rae Stratton\, Executive Director of Ox-Bow School of Art and Artists&#039\; Residency\, and Nayda Collazo-Llorens\, award-winning artist and winner of the inaugural Envision: Michigan Artist Initiative Award (2020-2021). \n \nMeet the shortlisted finalist artists for Envision: The Michigan Artist Initiative 2023:\nBakpak Durden is a “self-taught” multi-hyphenate antidisciplinary artist and alchemist. Pulling from various figurative art techniques\, including hyperrealism\, baroque\, and veristic surrealism\, Durden employs a wide range of mediums—oil and acrylic paint\, graphite\, film photography\, and the written word—to construct their hyper-surrealistic and conceptual works of art. Parisa Ghaderi is a visual artist\, curator\, educator\, and filmmaker. She earned her BA in Visual Communications from Art &amp\; Architecture University (Tehran\, Iran) and her MFA at Stamps School in 2014. She works across different media. She has made four short films and two animations and recently directed a performance about the border situation in the U.S. for Iranian immigrants. Levon Kafafian is a Detroit-based Armenian-American weaver working the narrative threads of costume\, artifact\, ritual\, and installation into stories about possible worlds and potential futures. They infuse their stories and cloth with future ancestral practice\, hybridity\, and magic. \nDurden\, Ghaderi\, and Kafafian will present their work at Stamps Gallery from June 1-July 29\, 2023. They will receive financial\, logistical and curatorial support from the professional staff at Stamps Gallery. \nThe jury will select a winner\, who will be announced at the award ceremony on June 29\, 2023. The winning artist will be awarded a $5\,000 cash prize. \nIf you have further questions\, please contact stamps-gallery@umich.edu.
UID:100429-21799917@events.umich.edu
URL:https://events.umich.edu/event/100429
CLASS:PUBLIC
STATUS:CONFIRMED
CATEGORIES:Art
LOCATION:Off Campus Location
CONTACT:
END:VEVENT
BEGIN:VEVENT
DTSTAMP:20230908T085204
DTSTART;TZID=America/Detroit:20230708T110000
DTEND;TZID=America/Detroit:20230708T112000
SUMMARY:Presentation:Science Forum Discovery Demos
DESCRIPTION:Join us in the Science Forum for 15-20 minute engaging science demonstrations that will help you see the world in a whole new way. Demonstrations are free and appropriate for visitors ages 5 and above. Schedule subject to change.\n\nNo demos on October 14th or 15th.\n\nHow to Become a Fossil\nExplore how fossils form and what parts of animals can become fossilized! How old are the earliest fossils? How old does something have to be before it is considered a fossil? You’ll touch some real fossils\, learn the different types of fossil evidence\, and discover what is necessary to become a fossil.  Finally\, we’ll discuss what kinds of things fossils can tell us\, and how fossil casts are made in the museum!
UID:95035-21820030@events.umich.edu
URL:https://events.umich.edu/event/95035
CLASS:PUBLIC
STATUS:CONFIRMED
CATEGORIES:Children,Family,Free,Museum,natural history museum,Natural Sciences,Science
LOCATION:Museum of Natural History
CONTACT:
END:VEVENT
END:VCALENDAR