BEGIN:VCALENDAR
VERSION:2.0
PRODID:-//UM//UM*Events//EN
CALSCALE:GREGORIAN
BEGIN:VTIMEZONE
TZID:America/Detroit
TZURL:http://tzurl.org/zoneinfo/America/Detroit
X-LIC-LOCATION:America/Detroit
BEGIN:DAYLIGHT
TZOFFSETFROM:-0500
TZOFFSETTO:-0400
TZNAME:EDT
DTSTART:20070311T020000
RRULE:FREQ=YEARLY;BYMONTH=3;BYDAY=2SU
END:DAYLIGHT
BEGIN:STANDARD
TZOFFSETFROM:-0400
TZOFFSETTO:-0500
TZNAME:EST
DTSTART:20071104T020000
RRULE:FREQ=YEARLY;BYMONTH=11;BYDAY=1SU
END:STANDARD
END:VTIMEZONE
BEGIN:VEVENT
DTSTAMP:20230608T105331
DTSTART;TZID=America/Detroit:20230717T153000
DTEND;TZID=America/Detroit:20230717T163000
SUMMARY:Reception / Open House:MCSP Virtual Open House
DESCRIPTION:Drop in during this time to chat with MCSP staff and get your questions answered about courses\, MCSP programming\, living in West Quad\, and more! We'd love to meet you!
UID:108557-21819960@events.umich.edu
URL:https://events.umich.edu/event/108557
CLASS:PUBLIC
STATUS:CONFIRMED
CATEGORIES:Community Service,Inclusion,Social Justice,Undergraduate
LOCATION:Off Campus Location
CONTACT:
END:VEVENT
BEGIN:VEVENT
DTSTAMP:20230801T123111
DTSTART;TZID=America/Detroit:20230717T160000
DTEND;TZID=America/Detroit:20230717T170000
SUMMARY:Careers / Jobs:Apply\, Network\, Grow | Disability in Financial Services
DESCRIPTION:Join us for an engaging panel discussion in honor of Disability Pride Month! You will have the opportunity to hear from business leadersand their unique experiences within the culture\, workplace\, and environment at BNP Paribas. We will focus on people with disabilities in financial services specifically and their perspectives. This session will be held virtually via Microsoft Teams and is open to all undergraduate students ofany major. No finance experience is required to join.\n\nPlease register to receive the Microsoft Teams invitation - it will be sent to you on the day of the event.
UID:109128-21821105@events.umich.edu
URL:https://events.umich.edu/event/109128
CLASS:PUBLIC
STATUS:CONFIRMED
CATEGORIES:
LOCATION:
CONTACT:
END:VEVENT
END:VCALENDAR