BEGIN:VCALENDAR
VERSION:2.0
PRODID:-//UM//UM*Events//EN
CALSCALE:GREGORIAN
BEGIN:VTIMEZONE
TZID:America/Detroit
TZURL:http://tzurl.org/zoneinfo/America/Detroit
X-LIC-LOCATION:America/Detroit
BEGIN:DAYLIGHT
TZOFFSETFROM:-0500
TZOFFSETTO:-0400
TZNAME:EDT
DTSTART:20070311T020000
RRULE:FREQ=YEARLY;BYMONTH=3;BYDAY=2SU
END:DAYLIGHT
BEGIN:STANDARD
TZOFFSETFROM:-0400
TZOFFSETTO:-0500
TZNAME:EST
DTSTART:20071104T020000
RRULE:FREQ=YEARLY;BYMONTH=11;BYDAY=1SU
END:STANDARD
END:VTIMEZONE
BEGIN:VEVENT
DTSTAMP:20230801T123110
DTSTART;TZID=America/Detroit:20230717T160000
DTEND;TZID=America/Detroit:20230717T180000
SUMMARY:Careers / Jobs:iTeach Information Session
DESCRIPTION:Have a bachelor's degree and want to teach? Come find out how to begin a teaching career for the number one school district in Virginia!Arlington has partnered with the iTeach residency program to offer eligible future teachers a change to obtain their teaching license\, while teaching\, in just one year! Come to one  of our information sessions to find out more!
UID:109125-21821102@events.umich.edu
URL:https://events.umich.edu/event/109125
CLASS:PUBLIC
STATUS:CONFIRMED
CATEGORIES:
LOCATION:
CONTACT:
END:VEVENT
BEGIN:VEVENT
DTSTAMP:20230801T123108
DTSTART;TZID=America/Detroit:20230717T180000
DTEND;TZID=America/Detroit:20230717T190000
SUMMARY:Careers / Jobs:Special Education Specialized Programs
DESCRIPTION:Montgomery County Public Schools\, Maryland's largest schools districts and one of the best school district in the country\, is hosting an Information session for Special Education Jobs on July 10\, 2023 from 6to 7 p.m. EST\n\nMCPS\, with a salary range of over $59\,000- $124\,000\,yearly guaranteed tuition reimbursement of 9 credits\, amazing benefits to include all medical and a state pension. MCPS offers one of the best teacher compensations packages in the country.\n\nJoin us and learn more.
UID:109081-21821050@events.umich.edu
URL:https://events.umich.edu/event/109081
CLASS:PUBLIC
STATUS:CONFIRMED
CATEGORIES:
LOCATION:
CONTACT:
END:VEVENT
END:VCALENDAR