BEGIN:VCALENDAR
VERSION:2.0
PRODID:-//UM//UM*Events//EN
CALSCALE:GREGORIAN
BEGIN:VTIMEZONE
TZID:America/Detroit
TZURL:http://tzurl.org/zoneinfo/America/Detroit
X-LIC-LOCATION:America/Detroit
BEGIN:DAYLIGHT
TZOFFSETFROM:-0500
TZOFFSETTO:-0400
TZNAME:EDT
DTSTART:20070311T020000
RRULE:FREQ=YEARLY;BYMONTH=3;BYDAY=2SU
END:DAYLIGHT
BEGIN:STANDARD
TZOFFSETFROM:-0400
TZOFFSETTO:-0500
TZNAME:EST
DTSTART:20071104T020000
RRULE:FREQ=YEARLY;BYMONTH=11;BYDAY=1SU
END:STANDARD
END:VTIMEZONE
BEGIN:VEVENT
DTSTAMP:20240314T121507
DTSTART;TZID=America/Detroit:20240414T120000
DTEND;TZID=America/Detroit:20240414T170000
SUMMARY:Exhibition:Anedged: 2024 MFA First Year Exhibition
DESCRIPTION:This annual celebration of the work of Stamps MFA in Art candidates features work by first-year students:\nHannah BuchananSam GriffithLaura MackieAndy MaticorenaCharlie ReynoldsDarren SpirkCress Thibodeaux\nThe 2024 MFA First Year Exhibition takes place March 22 - April 29\, 2024 at the Stamps Graduate/Faculty Studios\, 1919 Green Rd\, Ann Arbor\, MI 48109. \nJoin us at the public exhibition reception on Friday\, March 22 from 6-8pm (no RSVP required). Viewings March 23-April 29 are available by appointment only\; please contact Hannah Buchanan to arrange a visit.
UID:119889-21843760@events.umich.edu
URL:https://events.umich.edu/event/119889
CLASS:PUBLIC
STATUS:CONFIRMED
CATEGORIES:Art
LOCATION:Off Campus Location
CONTACT:
END:VEVENT
BEGIN:VEVENT
DTSTAMP:20240414T120015
DTSTART;TZID=America/Detroit:20240414T120000
DTEND;TZID=America/Detroit:20240414T160000
SUMMARY:Other:NCBA Conference Game vs. Notre Dame
DESCRIPTION:One 9-inning game against Notre Dame Club BaseballStart time: NoonPlace: Detroit Catholic Central
UID:121333-21846426@events.umich.edu
URL:https://events.umich.edu/event/121333
CLASS:PUBLIC
STATUS:CONFIRMED
CATEGORIES:
LOCATION:Detroit Catholic Central
CONTACT:
END:VEVENT
BEGIN:VEVENT
DTSTAMP:20240414T181521
DTSTART;TZID=America/Detroit:20240414T120000
SUMMARY:Sporting Event:Softball vs Iowa
DESCRIPTION:Softball vs Iowa
UID:121435-21846547@events.umich.edu
URL:https://events.umich.edu/event/121435
CLASS:PUBLIC
STATUS:CONFIRMED
CATEGORIES:Athletics,Athletics - Softball
LOCATION:Alumni Field
CONTACT:
END:VEVENT
END:VCALENDAR