BEGIN:VCALENDAR
VERSION:2.0
PRODID:-//UM//UM*Events//EN
CALSCALE:GREGORIAN
BEGIN:VTIMEZONE
TZID:America/Detroit
TZURL:http://tzurl.org/zoneinfo/America/Detroit
X-LIC-LOCATION:America/Detroit
BEGIN:DAYLIGHT
TZOFFSETFROM:-0500
TZOFFSETTO:-0400
TZNAME:EDT
DTSTART:20070311T020000
RRULE:FREQ=YEARLY;BYMONTH=3;BYDAY=2SU
END:DAYLIGHT
BEGIN:STANDARD
TZOFFSETFROM:-0400
TZOFFSETTO:-0500
TZNAME:EST
DTSTART:20071104T020000
RRULE:FREQ=YEARLY;BYMONTH=11;BYDAY=1SU
END:STANDARD
END:VTIMEZONE
BEGIN:VEVENT
DTSTAMP:20241001T123203
DTSTART;TZID=America/Detroit:20241024T160000
DTEND;TZID=America/Detroit:20241024T180000
SUMMARY:Lecture / Discussion:LACS Indigenous Traditions of Resistance to Extractivism Series. Lecture and Workshop with Lorena Kab'nal
DESCRIPTION:Lecture (October 24\, 4-6 PM\, MLB 4th Floor Commons): Ancestral and Indigenous Epistemologies: Principles for Living with Dignity in Times of Death\n\nWorkshop (October 25\, 3-5 PM\, MLB 4th Floor Commons): Ancestral Resistances against Multiple Neoliberal Extractivisms\nRSVP is required to attend the workshop. Reading materials will be emailed before the event. RSVP at https://myumi.ch/5y1VW\n\nLorena Kab’nal is a *mujer originaria* (native woman) of three ancestral communities in Iximulew\, Guatemala: Maya Q'eqchí\, Maya K’iché\, and Xinka. She is an ancestral healer\, communitarian-territorial feminist\, and graduate of the National School of Theater Art in Guatemala. In recent years\, she cofounded Tzk’at\, a network of ancestral healers that provide an epistemological\, political\, and territorial space for women defenders of life and politically-at-risk communities to receive physical\, emotional and spiritual fortification\, healing\, and recovery.\n\nCosponsors: Department of American Culture\, Department of Anthropology\, Department of Political Science\, Departments of Romance Languages and Literatures\, Institute for Humanities\, LSA Diversity\, Equity\, and Inclusion\, Program in Native American Studies\n\nFunding for this event was partially provided by the Diversity\, Equity\, and Inclusion Office and the Institute for Humanities in the College of Literature\, Science\, and the Arts (LSA).
UID:127151-21858598@events.umich.edu
URL:https://events.umich.edu/event/127151
CLASS:PUBLIC
STATUS:CONFIRMED
CATEGORIES:Workshop,American Culture,Area Studies,Center For Latin American And Caribbean Studies,Latin America,Latina/o Studies,Multicultural
LOCATION:Modern Languages Building - 4th Floor Commons
CONTACT:
END:VEVENT
BEGIN:VEVENT
DTSTAMP:20240612T181514
DTSTART;TZID=America/Detroit:20241024T160000
DTEND;TZID=America/Detroit:20241024T170000
SUMMARY:Other:MFA Info Session
DESCRIPTION:Learn more about the MFA in Art program at the University of Michigan Stamps School of Art &amp\; Design in this virtual\, online presentation and Q&amp\;A with the program director and program manager.\nInfo session times are Eastern US.
UID:122755-21849609@events.umich.edu
URL:https://events.umich.edu/event/122755
CLASS:PUBLIC
STATUS:CONFIRMED
CATEGORIES:Art
LOCATION:Off Campus Location
CONTACT:
END:VEVENT
BEGIN:VEVENT
DTSTAMP:20241108T123144
DTSTART;TZID=America/Detroit:20241024T160000
DTEND;TZID=America/Detroit:20241024T180000
SUMMARY:Careers / Jobs:Miami-Dade County Public Schools Connect Cafe\, October 24th
DESCRIPTION:Take your coffee break with our recruitment team via live chat to learn about our positions at Miami-Dade County Public Schools!Join us every 2nd &amp\; 4th Thursday of the month from 4-6pm! Be sure to register here: https://app.brazenconnect.com/a/miami_dade_county_public_schools/s/Xdbb3/0JBLr
UID:126166-21856617@events.umich.edu
URL:https://events.umich.edu/event/126166
CLASS:PUBLIC
STATUS:CONFIRMED
CATEGORIES:
LOCATION:
CONTACT:
END:VEVENT
END:VCALENDAR