BEGIN:VCALENDAR
VERSION:2.0
PRODID:-//UM//UM*Events//EN
CALSCALE:GREGORIAN
BEGIN:VTIMEZONE
TZID:America/Detroit
TZURL:http://tzurl.org/zoneinfo/America/Detroit
X-LIC-LOCATION:America/Detroit
BEGIN:DAYLIGHT
TZOFFSETFROM:-0500
TZOFFSETTO:-0400
TZNAME:EDT
DTSTART:20070311T020000
RRULE:FREQ=YEARLY;BYMONTH=3;BYDAY=2SU
END:DAYLIGHT
BEGIN:STANDARD
TZOFFSETFROM:-0400
TZOFFSETTO:-0500
TZNAME:EST
DTSTART:20071104T020000
RRULE:FREQ=YEARLY;BYMONTH=11;BYDAY=1SU
END:STANDARD
END:VTIMEZONE
BEGIN:VEVENT
DTSTAMP:20240827T104225
DTSTART;TZID=America/Detroit:20241024T160000
DTEND;TZID=America/Detroit:20241024T173000
SUMMARY:Lecture / Discussion:Ottoman Passports: Security and Geographic Mobility\, 1876-1908
DESCRIPTION:Abstract: İlkay Yılmaz reconsiders the history of two political issues\, the Armenian and Macedonian questions\, approaching both through the lens of mobility restrictions during the late Ottoman Empire from 1876 to 1908 in her book Ottoman Passports. Yılmaz investigates how Ottoman security perceptions and travel regulations were directly linked to transnational security regimes battling against anarchism. The Hamidian government targeted “internal threats” to the regime with security policies that created new categories of suspects benefiting from the concepts of vagrant\, conspirator\, and anarchist. Yılmaz explores how mobility restrictions and the use of passports became critical to targeting groups including Armenians\, Bulgarians\, seasonal and foreign workers\, and revolutionaries. Taking up these new policies on surveillance\, mobility\, and control\, Ottoman Passports offers a timely look at the origins of contemporary immigration debates and the historical development of discrimination\, terrorism\, and counterterrorism.\n   \n   Bio: İlkay Yılmaz is currently a DFG (German Research Foundation) funded research associate at the department of Modern History at Freie Universität Berlin. She was an Einstein Senior Researcher at the same department. She was a research associate at Leibniz-Zentrum Moderner Orient between 2017-19 with Humboldt Scholarship and between 2014-15 with TUBITAK (The Scientific and Technological Research Council of Turkey) scholarship. She was working as an assistant professor at Istanbul University from 2014 until 2017. Her articles have appeared in Journal of Historical Sociology\, Middle Eastern Studies\, Journal of Ottoman and Turkish Studies\, Photoresearcher-Journal of European Society for History of Photography. Her research interests focus on the history of security\, passport history\, inter-imperial collaboration on policing\, state formation and history of violence in the late Ottoman Empire.\n   \n   Suggested Pre-Read: Ottoman Passports: Security and Geographic Mobility\, 1876-1908 by Ilkay Yilmaz\n   \n   Cosponsors:\n   Multidisciplinary Workshop for Armenian Studies\, U-M\n   UCLA Promise Armenian Institute\n   Armenian Studies Program\, University of California\, Berkeley\n   Armenian Studies Program\, Fresno State University\n   Middle East Studies Department\, Stanford University\n\nRegister here: https://umich.zoom.us/j/96004855164
UID:124873-21853972@events.umich.edu
URL:https://events.umich.edu/event/124873
CLASS:PUBLIC
STATUS:CONFIRMED
CATEGORIES:armenian,Armenian Studies,Discussion,Lecture
LOCATION:Weiser Hall - 555
CONTACT:
END:VEVENT
BEGIN:VEVENT
DTSTAMP:20241020T160929
DTSTART;TZID=America/Detroit:20241024T160000
DTEND;TZID=America/Detroit:20241024T170000
SUMMARY:Workshop / Seminar:Rep Stability/Comm Alg Seminar: HSL Numbers for Local Cohomology of Pointed Semigroup Rings
DESCRIPTION:Abstract: The Hartshorne-Speiser-Lyubeznik number (HSL number) is a nilpotency index for modules with a Frobenius action. One important class of such modules is the local cohomology modules of a ring of positive characteristic. The HSL numbers of these local cohomology modules are closely connected to the class of F-nilpotent singularities\, which is of interest in part due to its connection to other F-singularities. In this talk we present an explicit upper bound for the HSL numbers of the local cohomology modules of a positive characteristic pointed semigroup ring.
UID:128079-21860153@events.umich.edu
URL:https://events.umich.edu/event/128079
CLASS:PUBLIC
STATUS:CONFIRMED
CATEGORIES:Mathematics
LOCATION:East Hall - 3088
CONTACT:
END:VEVENT
BEGIN:VEVENT
DTSTAMP:20240911T125901
DTSTART;TZID=America/Detroit:20241024T160000
DTEND;TZID=America/Detroit:20241024T173000
SUMMARY:Other:STEM RCA: In Person Kickoff
DESCRIPTION:The STEM Research Career Award is a U-M based scholarship opportunity for sophomores and juniors in STEM. By applying for STEM RCA\, you will also be automatically considered for the national Goldwater Scholarship and Astronaut Scholarship. Join ONSF for an introduction to these scholarships and learn how you can apply now or in the future.\n\nThis kick-off provides a great opportunity to meet with ONSF and learn about these opportunities. Bring any questions you have!\n\nFood will be provided.
UID:126234-21856747@events.umich.edu
URL:https://events.umich.edu/event/126234
CLASS:PUBLIC
STATUS:CONFIRMED
CATEGORIES:#Honors Program,Onsf,Scholarships
LOCATION:Weiser Hall - 296
CONTACT:
END:VEVENT
END:VCALENDAR