BEGIN:VCALENDAR
VERSION:2.0
PRODID:-//UM//UM*Events//EN
CALSCALE:GREGORIAN
BEGIN:VTIMEZONE
TZID:America/Detroit
TZURL:http://tzurl.org/zoneinfo/America/Detroit
X-LIC-LOCATION:America/Detroit
BEGIN:DAYLIGHT
TZOFFSETFROM:-0500
TZOFFSETTO:-0400
TZNAME:EDT
DTSTART:20070311T020000
RRULE:FREQ=YEARLY;BYMONTH=3;BYDAY=2SU
END:DAYLIGHT
BEGIN:STANDARD
TZOFFSETFROM:-0400
TZOFFSETTO:-0500
TZNAME:EST
DTSTART:20071104T020000
RRULE:FREQ=YEARLY;BYMONTH=11;BYDAY=1SU
END:STANDARD
END:VTIMEZONE
BEGIN:VEVENT
DTSTAMP:20241021T102324
DTSTART;TZID=America/Detroit:20241024T160000
DTEND;TZID=America/Detroit:20241024T170000
SUMMARY:Workshop / Seminar:Student DGT
DESCRIPTION:Title: How to Think About Teichmuller Space\n\nAbstract: In this talk\, I will give an overview of some methods used to understand moduli spaces and Teichmuller spaces of hyperbolic surfaces. In particular\, I will talk about Fenchel-Nielsen coordinates and the Weil-Petersson form. Depending on interest\, I will also talk about topological recursion theory or the Teichmuller metric.
UID:127741-21859605@events.umich.edu
URL:https://events.umich.edu/event/127741
CLASS:PUBLIC
STATUS:CONFIRMED
CATEGORIES:Mathematics
LOCATION:East Hall - 2866
CONTACT:
END:VEVENT
BEGIN:VEVENT
DTSTAMP:20241024T162043
DTSTART;TZID=America/Detroit:20241024T163000
DTEND;TZID=America/Detroit:20241024T190000
SUMMARY:Workshop / Seminar:2024 Rod Little Lectureship Seminar with Amy Herring\, ScD
DESCRIPTION:A reception will follow the seminar for all registered attendees. The reception will be open until 7:00 PM in the Rackham Graduate School Assembly Hall.\nTITLE: A Little Goes a Long Way: Why Things That Are Unseen Are More Important Than Ever\nABSTRACT: Missing data is a mature subfield of statistics due in large part to the defining contributions of Michigan’s own Professor Little. It has also aged very well\, and the demand and need for principled solutions has never been greater. We will contemplate “things that are unseen” in a wide variety of contexts and consider the detailed example of the search for endotypes of sepsis\, a life-threatening medical condition with high mortality worldwide.\nAbout Dr. Herring: Amy H. Herring is Sara & Charles Ayres Distinguished Professor of Statistical Science\, Global Health\, and Biostatistics and Bioinformatics at Duke University. Dr. Herring received her doctorate in biostatistics at Harvard University and came to Duke from UNC-Chapel Hill\, where she was distinguished professor of biostatistics. Her research interests include development of statistical methodology for longitudinal or clustered data\, Bayesian methods\, latent class and latent variable models\, missing data\, complex environmental mixtures\, and applications of statistics in population health and medicine. She has received numerous awards for her work\, including the Mortimer Spiegelman Award from the American Public Health Association as the best applied public health statistician under age 40. Her research program is funded by NIH\, and she holds leadership positions at the national and international level\, including as Chair of the American Statistical Association's Section on Bayesian Statistical Science\, as President of the International Society for Bayesian Analysis\, and as a member of the Board of the International Biometric Society.
UID:128250-21860508@events.umich.edu
URL:https://events.umich.edu/event/128250
CLASS:PUBLIC
STATUS:CONFIRMED
CATEGORIES:Sessions
LOCATION:Rackham Graduate School Amphitheatre
CONTACT:
END:VEVENT
BEGIN:VEVENT
DTSTAMP:20241108T123213
DTSTART;TZID=America/Detroit:20241024T163000
DTEND;TZID=America/Detroit:20241024T183000
SUMMARY:Careers / Jobs:Baltimore County Public Schools (BCPS) Fall Job Fair
DESCRIPTION:BE THE CHANGE YOU WISH TO SEE by being part of something special with TEAM BCPS!Baltimore County Public Schools&nbsp\;is nationally recognized for its academics and innovation. BCPS&nbsp\;is the 22nd largest school system in the US and the 3rd largest in the state of Maryland.BCPS&nbsp\;is&nbsp\;committed&nbsp\;to&nbsp\;hiring&nbsp\;a&nbsp\;diverse&nbsp\;workforce representative&nbsp\; of&nbsp\; the&nbsp\; students&nbsp\; and&nbsp\; communities&nbsp\;we&nbsp\;serve.&nbsp\;Please Join Us For Our Job Fair:&nbsp\;Date: October 24\, 2024Time: 4:30 - 6:30 pmLocation: Carver Center for Arts &amp\; Technology - 938 York Road\, Baltimore\, MD 21204&nbsp\;We are Hiring! All Majors Welcome!TeachingRelated Services(OT/PT/SLP)NursesSchool CounselorsSchool PsychologistSocial WorkersAdditional Adult Support PositionsBuilding Service WorkersBus Drivers and AttendantsFood Service WorkersWarehouse WorkersGrounds WorkersMaintenance EmployeesWe recommend you start your application prior tothe fair!!! www.bcps.org/jobs&nbsp\;We hope to seeyou there!
UID:127799-21859701@events.umich.edu
URL:https://events.umich.edu/event/127799
CLASS:PUBLIC
STATUS:CONFIRMED
CATEGORIES:
LOCATION:Towson, Maryland, United States
CONTACT:
END:VEVENT
END:VCALENDAR