BEGIN:VCALENDAR
VERSION:2.0
PRODID:-//UM//UM*Events//EN
CALSCALE:GREGORIAN
BEGIN:VTIMEZONE
TZID:America/Detroit
TZURL:http://tzurl.org/zoneinfo/America/Detroit
X-LIC-LOCATION:America/Detroit
BEGIN:DAYLIGHT
TZOFFSETFROM:-0500
TZOFFSETTO:-0400
TZNAME:EDT
DTSTART:20070311T020000
RRULE:FREQ=YEARLY;BYMONTH=3;BYDAY=2SU
END:DAYLIGHT
BEGIN:STANDARD
TZOFFSETFROM:-0400
TZOFFSETTO:-0500
TZNAME:EST
DTSTART:20071104T020000
RRULE:FREQ=YEARLY;BYMONTH=11;BYDAY=1SU
END:STANDARD
END:VTIMEZONE
BEGIN:VEVENT
DTSTAMP:20241015T145729
DTSTART;TZID=America/Detroit:20241024T163000
DTEND;TZID=America/Detroit:20241024T180000
SUMMARY:Reception / Open House:Resilient Grounds Goals Town Hall
DESCRIPTION:With the existing Huron River protection goal sunsetting in 2025\, the Office of Campus Sustainability has been leading a workstream to review and recommend expanded goals to promote resilient grounds and water protection.  Come join a town hall to learn about the proposed new goals and discuss metrics\, implementation strategies\, and potential campus-as-lab projects to help support resilient land use\, protect the Huron River\, and increase biodiversity on campus lands.  Event will be held in Room 1010 of BSB.
UID:126870-21858037@events.umich.edu
URL:https://events.umich.edu/event/126870
CLASS:PUBLIC
STATUS:CONFIRMED
CATEGORIES:Biology,climate,climate adaptation,Ecology,Environment,Free,planet blue,Sustainability
LOCATION:Biological Sciences Building - 1010
CONTACT:
END:VEVENT
BEGIN:VEVENT
DTSTAMP:20240923T205148
DTSTART;TZID=America/Detroit:20241024T163000
DTEND;TZID=America/Detroit:20241024T210000
SUMMARY:Workshop / Seminar:Story Lab Fall Retreats
DESCRIPTION:ABOUT\nStory Lab develops executive-level presence and communication skills through storytelling workshops and events. To be an effective leader — at work\, in the community\, or in your personal life — you must be able to communicate with impact. Often this means telling stories that are meaningful to you and others\, and doing so in the rich language and expressive style of a seasoned storyteller. If you can craft and deliver an effective story\, you will be better able to convey your value to recruiters\, inspire and motivate classmates and colleagues\, and influence your audience. At Story Lab\, you’ll find an immersive experience and an opportunity to hone your skills in a safe and supportive environment.\n\nDATES\n10/24 | 4:30–9 PM @ Gerald R. Ford School of Public Policy OR 10/25 | 10 AM–2:30 PM @ Michigan League (Choose ONE)\nDevelop your storytelling abilities.\n\nPARTICIPANT REQUIREMENTS\nStudents with a strong interest in building storytelling abilities and leadership development. Any level student at any school is welcome.\n\nREGISTRATION WINDOW\n9/30–10/17\n\nVisit our webpage to learn more!
UID:126864-21858024@events.umich.edu
URL:https://events.umich.edu/event/126864
CLASS:PUBLIC
STATUS:CONFIRMED
CATEGORIES:Graduate,Undergraduate Students,Free,Graduate School,Graduate Students,Leadership,Storytelling,Undergraduate,Workshop
LOCATION:
CONTACT:
END:VEVENT
BEGIN:VEVENT
DTSTAMP:20241108T123205
DTSTART;TZID=America/Detroit:20241024T170000
DTEND;TZID=America/Detroit:20241024T183000
SUMMARY:Careers / Jobs:2024 Evercore Intro to Investment Banking Session - Michigan
DESCRIPTION:Evercore is hosting an educational event for Freshmen and Sophomores at Michigan. The session will include an overview of Investment Banking and a brief introduction to the Firm. Students will also get to network with Evercore representatives from our New York and Chicago offices.Please register for the session on our website.The goal of the session is to introduce Freshman and Sophomores to the Firm in advance of recruitment for the Summer 2026 Junior Internship program. The 2026 Summer Analyst application will open in Winter 2025.Evercore Intro to Investment Banking Session - Michigan\nDate:Thursday\, October 24\nTime: 5:00 - 6:30pm EST\nLocation: Michigan Ross // Room: R1240\nIf you're interested in attending this event please register using the link below. \nhttps://evercore.tal.net/vx/appcentre-ext/brand-4/spa-1/candidate/so/pm/1/pl/1/opp/2287-2024-Evercore-Intro-to-Investment-Banking-Session-Michigan/en-GB 
UID:127976-21859993@events.umich.edu
URL:https://events.umich.edu/event/127976
CLASS:PUBLIC
STATUS:CONFIRMED
CATEGORIES:
LOCATION:Ross School of Business, R1240, 701 Tappan Ave, Ann Arbor, MI48109, USA
CONTACT:
END:VEVENT
END:VCALENDAR