BEGIN:VCALENDAR
VERSION:2.0
PRODID:-//UM//UM*Events//EN
CALSCALE:GREGORIAN
BEGIN:VTIMEZONE
TZID:America/Detroit
TZURL:http://tzurl.org/zoneinfo/America/Detroit
X-LIC-LOCATION:America/Detroit
BEGIN:DAYLIGHT
TZOFFSETFROM:-0500
TZOFFSETTO:-0400
TZNAME:EDT
DTSTART:20070311T020000
RRULE:FREQ=YEARLY;BYMONTH=3;BYDAY=2SU
END:DAYLIGHT
BEGIN:STANDARD
TZOFFSETFROM:-0400
TZOFFSETTO:-0500
TZNAME:EST
DTSTART:20071104T020000
RRULE:FREQ=YEARLY;BYMONTH=11;BYDAY=1SU
END:STANDARD
END:VTIMEZONE
BEGIN:VEVENT
DTSTAMP:20240327T111020
DTSTART;TZID=America/Detroit:20240414T120000
DTEND;TZID=America/Detroit:20240414T180000
SUMMARY:Exhibition:XR/XF: Extended Realities\, Extended Feminisms Exhibition
DESCRIPTION:XR/XF: Extended Realities\, Extended Feminisms brings together local\, national\, and international artists to create a site-specific multimedia exhibition and series of events on the University of Michigan campus and across the city of Ann Arbor. The exhibition will take place in various locations\, including a shipping container - the XR/XF pod - that will travel between 2 locations in Ann Arbor during the first two weeks of April.\n\nThe city of Ann Arbor has always been feminized. The story goes that in 1824\, John Allen and Elisha W. Rumsey founded the town and named it after their wives\, who were both named Ann. Since then\, the city has been anthropomorphized as a feminine body throughout the years. In the 1980s\, the University of Michigan’s football rivals in Ohio invented the infamous slogan\, “Ann Arbor is a Whore!” as a method to jeer at the opposition. Since then\, this offensive slogan has spread across the US and reappears every Fall during football season in Ann Arbor\, proliferating through both physical and digital objects. As one recent social media commenter notes: “That's what happens when you have a chick name for your city.”\n\nWith this project\, we strike/suspend gender from the city’s name: Ann Arbor is neither trophy wife nor whore. Instead\, we pose Ann Arbor as a feminist cyborg\, a feminist map\, and a creative\, participatory organism. We construct the body of the city differently\, with artistic intervention and cyberfeminist means: physical and digital installation\, activations of public space\, music\, performances\, and workshops. From the Bell Tower on central campus to the parking lot of the Liberty Annex\, we offer a creative activation that is both physical and digital and a fluid/complex/distributed image of the city through both XR and feminist means.\n\nCurated by Alina Nazmeeva and Yvette Granata. In collaboration with Tiffany Ng\, Tyler Musgrave\, Julie Zhu\, and Anıl Çamcı. Supported by the Arts Initiative at University of Michigan.
UID:120792-21845316@events.umich.edu
URL:https://events.umich.edu/event/120792
CLASS:PUBLIC
STATUS:CONFIRMED
CATEGORIES:Feminism,Xrxf,visual arts,Virtual,Technology,Social Justice,Social Impact,performance,Media,Interdisciplinary,Free,Extended Reality,Exhibition,Digital Studies Institute,Digital Studies
LOCATION:Off Campus Location - Liberty Annex Parking Lot
CONTACT:
END:VEVENT
BEGIN:VEVENT
DTSTAMP:20240405T195341
DTSTART;TZID=America/Detroit:20240414T123000
DTEND;TZID=America/Detroit:20240414T131500
SUMMARY:Presentation:Sky Tonight
DESCRIPTION:A live presentation on what to find in the sky tonight and for the coming few weeks. This presentation includes how to find the cardinal directions on your own with the North Star\, current and upcoming constellations\, visible planets\, a few deep sky objects depending on the season\, and other interesting astronomical visualizations. If you want to be able to look up from your own backyard and know what to look for\, this is the show for you. \n\nThe state-of-the-art Planetarium & Dome Theater at the U-M Museum of Natural History transports visitors beyond distant stars and back in time from the comfort of reclining seats. Tickets are $8 for adults\, seniors\, and children ages 3 & up. Babies without tickets may be required to sit on an adult's lap. Tickets are available the day of the show in the Museum Store. Schedule subject to change.
UID:116160-21843341@events.umich.edu
URL:https://events.umich.edu/event/116160
CLASS:PUBLIC
STATUS:CONFIRMED
CATEGORIES:Astronomy,Space,Natural Sciences,natural history museum,Museum
LOCATION:Museum of Natural History
CONTACT:
END:VEVENT
BEGIN:VEVENT
DTSTAMP:20240414T181522
DTSTART;TZID=America/Detroit:20240414T130000
SUMMARY:Sporting Event:Baseball vs Minnesota
DESCRIPTION:Baseball vs Minnesota
UID:120661-21845104@events.umich.edu
URL:https://events.umich.edu/event/120661
CLASS:PUBLIC
STATUS:CONFIRMED
CATEGORIES:Athletics - Baseball,Athletics
LOCATION:Ray Fisher Baseball Stadium
CONTACT:
END:VEVENT
END:VCALENDAR