BEGIN:VCALENDAR
VERSION:2.0
PRODID:-//UM//UM*Events//EN
CALSCALE:GREGORIAN
BEGIN:VTIMEZONE
TZID:America/Detroit
TZURL:http://tzurl.org/zoneinfo/America/Detroit
X-LIC-LOCATION:America/Detroit
BEGIN:DAYLIGHT
TZOFFSETFROM:-0500
TZOFFSETTO:-0400
TZNAME:EDT
DTSTART:20070311T020000
RRULE:FREQ=YEARLY;BYMONTH=3;BYDAY=2SU
END:DAYLIGHT
BEGIN:STANDARD
TZOFFSETFROM:-0400
TZOFFSETTO:-0500
TZNAME:EST
DTSTART:20071104T020000
RRULE:FREQ=YEARLY;BYMONTH=11;BYDAY=1SU
END:STANDARD
END:VTIMEZONE
BEGIN:VEVENT
DTSTAMP:20240313T061333
DTSTART;TZID=America/Detroit:20240414T130000
DTEND;TZID=America/Detroit:20240414T140000
SUMMARY:Performance:Dancing Through México with El Ballet Folklórico Estudiantil
DESCRIPTION:Families are sure to enjoy these hour-long interactive performances by Flint’s El Ballet Folklórico Estudiantil. For over 25 years\, El Ballet Folklórico Estudiantil has brought Hispanic cultural programs to Michigan\, teaching and performing the artistry of folkloric dance originating from México. These two family shows\, ideal for ages 3-10\, include both a performance and a participatory workshop where all can learn some of the basic movements of Mexican folkloric dance\, accompanied by live music. \n\nFree with registration.
UID:120101-21844054@events.umich.edu
URL:https://events.umich.edu/event/120101
CLASS:PUBLIC
STATUS:CONFIRMED
CATEGORIES:performance,Family,Free,In Person,music,Social,UMS,university musical society,Ypsilanti,Energy,Ypsilanti Freighthouse,Art,artists,arts,Culture,dance
LOCATION:Off Campus Location
CONTACT:
END:VEVENT
BEGIN:VEVENT
DTSTAMP:20240412T181527
DTSTART;TZID=America/Detroit:20240414T130000
SUMMARY:Sporting Event:Softball vs Iowa
DESCRIPTION:Softball vs Iowa
UID:120662-21845105@events.umich.edu
URL:https://events.umich.edu/event/120662
CLASS:PUBLIC
STATUS:CONFIRMED
CATEGORIES:Athletics - Softball,Athletics
LOCATION:Alumni Field
CONTACT:
END:VEVENT
BEGIN:VEVENT
DTSTAMP:20240405T192228
DTSTART;TZID=America/Detroit:20240414T133000
DTEND;TZID=America/Detroit:20240414T141500
SUMMARY:Presentation:Sea Monsters
DESCRIPTION:Journey 80 million years back in time to an age when ferocious prehistoric creatures swarm\, hunt\, and fight for survival beneath the vast\, mysterious seas.\n\nStunning\, realistic imagery recreates the perilous underwater realm of two young\, dolphin-sized marine reptiles called Dolichorhynchops\, and their journey among the most awesome predators ever to prowl the oceans. This show interweaves  ground-breaking fossil finds with cutting-edge computer-generated animation. This is a pre-programmed show and does not include a live star talk.\n\nThe new Planetarium & Dome Theater has comfortable seating for 57 visitors and space for up to 9 wheelchairs\, easy-access seats\, and a limited number of hearing assistance devices. Tickets $8. Available one hour prior to show.
UID:69347-21843365@events.umich.edu
URL:https://events.umich.edu/event/69347
CLASS:PUBLIC
STATUS:CONFIRMED
CATEGORIES:Science,Natural Sciences,Museum,Family,Children
LOCATION:Museum of Natural History
CONTACT:
END:VEVENT
END:VCALENDAR