BEGIN:VCALENDAR
VERSION:2.0
PRODID:-//UM//UM*Events//EN
CALSCALE:GREGORIAN
BEGIN:VTIMEZONE
TZID:America/Detroit
TZURL:http://tzurl.org/zoneinfo/America/Detroit
X-LIC-LOCATION:America/Detroit
BEGIN:DAYLIGHT
TZOFFSETFROM:-0500
TZOFFSETTO:-0400
TZNAME:EDT
DTSTART:20070311T020000
RRULE:FREQ=YEARLY;BYMONTH=3;BYDAY=2SU
END:DAYLIGHT
BEGIN:STANDARD
TZOFFSETFROM:-0400
TZOFFSETTO:-0500
TZNAME:EST
DTSTART:20071104T020000
RRULE:FREQ=YEARLY;BYMONTH=11;BYDAY=1SU
END:STANDARD
END:VTIMEZONE
BEGIN:VEVENT
DTSTAMP:20240310T143047
DTSTART;TZID=America/Detroit:20240414T140000
DTEND;TZID=America/Detroit:20240414T160000
SUMMARY:Meeting:Crafting Meeting
DESCRIPTION:All are welcome to join us every Sunday from 2-4 pm for our crafting meetings!\nBring your friends\, work on a project\, or learn how to crochet/knit!\nAll skills are welcome with plenty of teachers and projects to start each week.\nIf you have more questions\, please DM us on Instagram or email our Vice President Loretta: lorettaa@umich.edu\n\nTime: 2-4pm\n\nLocation: Union\n\nJan 21-Feb 18: Sophia B Jones Room\, First Floor Union\nMar 10-End of Term: First Floor Pond Room \n\nTo get more updates\, request us on Maize Pages or email our secretary Sasha\, sashagr@umich.edu\, to get added to our GroupMe or Discord\n\nNonprofit Website: vipsfund.org\n\nInstagram: @vipsfund
UID:118180-21840620@events.umich.edu
URL:https://events.umich.edu/event/118180
CLASS:PUBLIC
STATUS:CONFIRMED
CATEGORIES:Undergraduate Students,Social,Social Impact,Student Org,Sustainability,Art,Visual Arts,Well-being,Workshop,Nature,Conservation,Crafting,Environment,Free,Graduate and Professional Students,Mindfulness
LOCATION:Michigan Union - Wolverine Room (3rd Floor)
CONTACT:
END:VEVENT
BEGIN:VEVENT
DTSTAMP:20240414T120004
DTSTART;TZID=America/Detroit:20240414T140000
DTEND;TZID=America/Detroit:20240414T160000
SUMMARY:Other:Crafting Meeting
DESCRIPTION:All are welcome to join us every Sunday from 2-4 pm for our crafting meeting! All skills are welcome with plenty of teachers and projects to start each week. If you have more questions\, please DM us on Instagram or em ail our Vice President Loretta: lorettaa@umich.eduTime: 2-4pmLocation: Union Jan 21-Feb 18: Sophia B Jones Room\, First Floor UnionMar 10-End of Term: 3rd Floor Wolverine Room\, Union Nonprofit Website: vipsfund.orgInstagram: @vipsfund
UID:117956-21840229@events.umich.edu
URL:https://events.umich.edu/event/117956
CLASS:PUBLIC
STATUS:CONFIRMED
CATEGORIES:
LOCATION:Union
CONTACT:
END:VEVENT
BEGIN:VEVENT
DTSTAMP:20240409T181623
DTSTART;TZID=America/Detroit:20240414T140000
DTEND;TZID=America/Detroit:20240414T150000
SUMMARY:Performance:Nathan Landers\, clarinet
DESCRIPTION:Undergraduate student Nathan Landers performs a recital.\n\nThe Frances B. Furlong Scholarship and annual recital event were established by Ann (BS '57) and Charles Hutchins (BSE '57) in memory of music teacher Frances Furlong (1894-1997). The scholarship provides support for outstanding music students in the School of Music\, Theatre & Dance.
UID:120535-21844874@events.umich.edu
URL:https://events.umich.edu/event/120535
CLASS:PUBLIC
STATUS:CONFIRMED
CATEGORIES:Free,Music,North Campus
LOCATION:Earl V. Moore Building - Britton Recital Hall
CONTACT:
END:VEVENT
END:VCALENDAR