BEGIN:VCALENDAR
VERSION:2.0
PRODID:-//UM//UM*Events//EN
CALSCALE:GREGORIAN
BEGIN:VTIMEZONE
TZID:America/Detroit
TZURL:http://tzurl.org/zoneinfo/America/Detroit
X-LIC-LOCATION:America/Detroit
BEGIN:DAYLIGHT
TZOFFSETFROM:-0500
TZOFFSETTO:-0400
TZNAME:EDT
DTSTART:20070311T020000
RRULE:FREQ=YEARLY;BYMONTH=3;BYDAY=2SU
END:DAYLIGHT
BEGIN:STANDARD
TZOFFSETFROM:-0400
TZOFFSETTO:-0500
TZNAME:EST
DTSTART:20071104T020000
RRULE:FREQ=YEARLY;BYMONTH=11;BYDAY=1SU
END:STANDARD
END:VTIMEZONE
BEGIN:VEVENT
DTSTAMP:20240402T085736
DTSTART;TZID=America/Detroit:20240414T150000
DTEND;TZID=America/Detroit:20240414T170000
SUMMARY:Social / Informal Gathering:End of Year Celebration
DESCRIPTION:Join hall staff for the end-of-the-year celebration! There will be food\, games and more to celebrate! There is also an opportunity to Pie one of us\, so please come out!
UID:121066-21845768@events.umich.edu
URL:https://events.umich.edu/event/121066
CLASS:PUBLIC
STATUS:CONFIRMED
CATEGORIES:Community,Diversity Peer Educators,housing,Inclusion
LOCATION:Mosher-Jordan Hall
CONTACT:
END:VEVENT
BEGIN:VEVENT
DTSTAMP:20240414T120003
DTSTART;TZID=America/Detroit:20240414T150000
DTEND;TZID=America/Detroit:20240414T170000
SUMMARY:Exercise / Fitness:Kyu Test
DESCRIPTION:New members are always welcome. No previous experience is necessary. Just come to any practice. You may watch a practice or actually participate when you come. If you want to participate\, wear loose fitting clothes and no jewelry. In each practice\, after stretching and warm-up\, we work on drills (kihon)\, prearranged forms (kata)\, restricted sparring (kumite)\, and self-defense/throwing techniques. \"True karate is this: that in daily life one's mind and body be trained and developed in a spirit of humility\, and that in critical times\, one be devoted utterly to the cause of justice.\"\n--Gichin Funakoshi - Founder of Shotokan Karate
UID:116665-21837706@events.umich.edu
URL:https://events.umich.edu/event/116665
CLASS:PUBLIC
STATUS:CONFIRMED
CATEGORIES:
LOCATION:Gretchen&#039;s House
CONTACT:
END:VEVENT
BEGIN:VEVENT
DTSTAMP:20240321T121717
DTSTART;TZID=America/Detroit:20240414T160000
DTEND;TZID=America/Detroit:20240414T170000
SUMMARY:Performance:Derek Glaser\, voice
DESCRIPTION:Undergraduate student Derek Glaser performs a recital.
UID:120536-21844875@events.umich.edu
URL:https://events.umich.edu/event/120536
CLASS:PUBLIC
STATUS:CONFIRMED
CATEGORIES:Free,Music,North Campus
LOCATION:Stearns Building - Cady Room
CONTACT:
END:VEVENT
END:VCALENDAR