BEGIN:VCALENDAR
VERSION:2.0
PRODID:-//UM//UM*Events//EN
CALSCALE:GREGORIAN
BEGIN:VTIMEZONE
TZID:America/Detroit
TZURL:http://tzurl.org/zoneinfo/America/Detroit
X-LIC-LOCATION:America/Detroit
BEGIN:DAYLIGHT
TZOFFSETFROM:-0500
TZOFFSETTO:-0400
TZNAME:EDT
DTSTART:20070311T020000
RRULE:FREQ=YEARLY;BYMONTH=3;BYDAY=2SU
END:DAYLIGHT
BEGIN:STANDARD
TZOFFSETFROM:-0400
TZOFFSETTO:-0500
TZNAME:EST
DTSTART:20071104T020000
RRULE:FREQ=YEARLY;BYMONTH=11;BYDAY=1SU
END:STANDARD
END:VTIMEZONE
BEGIN:VEVENT
DTSTAMP:20241113T112035
DTSTART;TZID=America/Detroit:20241113T120000
DTEND;TZID=America/Detroit:20241113T140000
SUMMARY:Workshop / Seminar:You Don't Belong Here: The Stories Our Systems Tell (and Why We have to Disrupt Them)
DESCRIPTION:You Don't Belong Here: The Stories Our Systems Tell (and Why We Have to Disrupt Them)\nThere is a widespread story that institutions of higher education value diversity and will actively foster belonging for all in the community. In actuality\, though\, many members of the higher education community continue to face marginalization and othering within their professional and educational spaces. This session centers around an embodied case study depicting one woman’s reflections on her experiences of higher education that sent a persistent\, systemic message that she didn’t belong. Through session activities\, participants will consider how these messages manifest and why they continue to occur despite the extensive labor of individuals sincerely committed to advancing equity. Together\, they brainstorm possibilities for changes that could increase equity at a systems level. This session is appropriate for faculty\, graduate students\, and academic leaders.\nThis session can be offered in a fully virtual\, synchronous format (90 minutes) or a fully in-person synchronous format (120 minutes). \n**The video performance portion of this session contains strong language. It includes explicit descriptions of racist and classist behaviors and the impact of systemic inequities on individuals and communities.
UID:124901-21854017@events.umich.edu
URL:https://events.umich.edu/event/124901
CLASS:PUBLIC
STATUS:CONFIRMED
CATEGORIES:
LOCATION:Rackham 4th Floor Assembly Hall
CONTACT:
END:VEVENT
BEGIN:VEVENT
DTSTAMP:20241113T112035
DTSTART;TZID=America/Detroit:20241113T130000
DTEND;TZID=America/Detroit:20241113T140000
SUMMARY:Workshop / Seminar:Children's and Women's SSC Travel and Expense  Onboarding
DESCRIPTION:The Shared Services Center on campus invites all staff from Michigan Medicine Children's and Women's Hospital to our onboarding sessions.  We will show you how to submit requests for processing travel and expense vouchers to the SSC.  SSC staff provide this service to Michigan Medicine staff and faculty. Come meet our team and have all your questions answered about how the SSC can save you time and build expense reports for you in Chrome River.
UID:128316-21860646@events.umich.edu
URL:https://events.umich.edu/event/128316
CLASS:PUBLIC
STATUS:CONFIRMED
CATEGORIES:
LOCATION:Virtual on Zoom
CONTACT:
END:VEVENT
BEGIN:VEVENT
DTSTAMP:20241128T123215
DTSTART;TZID=America/Detroit:20241113T130000
DTEND;TZID=America/Detroit:20241113T133000
SUMMARY:Careers / Jobs:Cool career spotlight: a day in the life of an aerospace engineer
DESCRIPTION:Interested in gaining a first hand account of a career in aerospace engineering? Join Handshake and Pratt &amp\; Whitney Production Test Engineer\, Anthony Bartolotta\, for answers to questions on topics like:\nAn average day in the life of an aerospace engineer \nImportant hard and soft skills for aspiring engineers to know\nTips for launching a career in engineering\nSign up for free today! 
UID:128806-21861648@events.umich.edu
URL:https://events.umich.edu/event/128806
CLASS:PUBLIC
STATUS:CONFIRMED
CATEGORIES:
LOCATION:
CONTACT:
END:VEVENT
END:VCALENDAR