BEGIN:VCALENDAR
VERSION:2.0
PRODID:-//UM//UM*Events//EN
CALSCALE:GREGORIAN
BEGIN:VTIMEZONE
TZID:America/Detroit
TZURL:http://tzurl.org/zoneinfo/America/Detroit
X-LIC-LOCATION:America/Detroit
BEGIN:DAYLIGHT
TZOFFSETFROM:-0500
TZOFFSETTO:-0400
TZNAME:EDT
DTSTART:20070311T020000
RRULE:FREQ=YEARLY;BYMONTH=3;BYDAY=2SU
END:DAYLIGHT
BEGIN:STANDARD
TZOFFSETFROM:-0400
TZOFFSETTO:-0500
TZNAME:EST
DTSTART:20071104T020000
RRULE:FREQ=YEARLY;BYMONTH=11;BYDAY=1SU
END:STANDARD
END:VTIMEZONE
BEGIN:VEVENT
DTSTAMP:20240408T121628
DTSTART;TZID=America/Detroit:20240414T163000
DTEND;TZID=America/Detroit:20240414T173000
SUMMARY:Performance:Jack Morin\, voice
DESCRIPTION:Undergraduate student Jack Morin performs a recital.
UID:120537-21844876@events.umich.edu
URL:https://events.umich.edu/event/120537
CLASS:PUBLIC
STATUS:CONFIRMED
CATEGORIES:Free,Music,North Campus
LOCATION:Earl V. Moore Building - Britton Recital Hall
CONTACT:
END:VEVENT
BEGIN:VEVENT
DTSTAMP:20240414T180015
DTSTART;TZID=America/Detroit:20240414T170000
DTEND;TZID=America/Detroit:20240414T200000
SUMMARY:Other:BSPA Skate for a Cause
DESCRIPTION:https://www.eventbrite.com/e/bspa-skate-for-a-cause-tickets-869553657397Please join us for a fun night of skating and community vibes. $15 per person (includes skates). Proceeds from this event will be donated to a local nonprofit.  
UID:121026-21845720@events.umich.edu
URL:https://events.umich.edu/event/121026
CLASS:PUBLIC
STATUS:CONFIRMED
CATEGORIES:
LOCATION:Rollers Skate Park
CONTACT:
END:VEVENT
BEGIN:VEVENT
DTSTAMP:20240219T103049
DTSTART;TZID=America/Detroit:20240414T170000
DTEND;TZID=America/Detroit:20240414T180000
SUMMARY:Livestream / Virtual:Live Chat with a Lloyd Scholar!
DESCRIPTION:Lloyd Scholars for Writing and the Arts (LSWA) is a diverse living-learning community in Alice Lloyd Hall where students who are passionate about creativity in any form come together through innovative classes and unique extracurricular opportunities to grow as thinkers\, writers\, artists\, and leaders. All academic majors are welcome!\n\nDuring these live chats\, prospective students will meet current LSWA students and leaders who will share their experiences in the program and answer any questions about life in LSWA. Contact lswa@umich.edu for the Zoom link!
UID:119029-21842055@events.umich.edu
URL:https://events.umich.edu/event/119029
CLASS:PUBLIC
STATUS:CONFIRMED
CATEGORIES:Prospective Undergraduate Students
LOCATION:Off Campus Location
CONTACT:
END:VEVENT
END:VCALENDAR