BEGIN:VCALENDAR
VERSION:2.0
PRODID:-//UM//UM*Events//EN
CALSCALE:GREGORIAN
BEGIN:VTIMEZONE
TZID:America/Detroit
TZURL:http://tzurl.org/zoneinfo/America/Detroit
X-LIC-LOCATION:America/Detroit
BEGIN:DAYLIGHT
TZOFFSETFROM:-0500
TZOFFSETTO:-0400
TZNAME:EDT
DTSTART:20070311T020000
RRULE:FREQ=YEARLY;BYMONTH=3;BYDAY=2SU
END:DAYLIGHT
BEGIN:STANDARD
TZOFFSETFROM:-0400
TZOFFSETTO:-0500
TZNAME:EST
DTSTART:20071104T020000
RRULE:FREQ=YEARLY;BYMONTH=11;BYDAY=1SU
END:STANDARD
END:VTIMEZONE
BEGIN:VEVENT
DTSTAMP:20241128T123208
DTSTART;TZID=America/Detroit:20241113T130000
DTEND;TZID=America/Detroit:20241113T140000
SUMMARY:Careers / Jobs:Hilton Travel with Purpose ESG Strategy Webinar
DESCRIPTION:Join the Hilton Early Talent Partnerships and Diversity Recruitment &amp\; Engagement Teams for a webinar about Travel with Purpose! Travel with Purpose is our Environmental\, Social\, and Governance (ESG) framework\, in which Hilton focuses on creating positive environmental and social impact across our operations\, supply chain\, and communities. During this webinar\, you'll hear from ESG leaders in Hilton as they discuss how we continue to fill the earth with the light &amp\; warmth of hospitality through responsible travel and tourism. You don't want to miss this!
UID:128615-21861367@events.umich.edu
URL:https://events.umich.edu/event/128615
CLASS:PUBLIC
STATUS:CONFIRMED
CATEGORIES:
LOCATION:
CONTACT:
END:VEVENT
BEGIN:VEVENT
DTSTAMP:20240703T133812
DTSTART;TZID=America/Detroit:20241113T130000
DTEND;TZID=America/Detroit:20241113T150000
SUMMARY:Workshop / Seminar:Introduction to Leadership at U-M
DESCRIPTION:Course details and registration are available on the Organizational Learning website.
UID:123166-21850399@events.umich.edu
URL:https://events.umich.edu/event/123166
CLASS:PUBLIC
STATUS:CONFIRMED
CATEGORIES:Career,Leadership,Professional Development,Self Development
LOCATION:Off Campus Location
CONTACT:
END:VEVENT
BEGIN:VEVENT
DTSTAMP:20241128T123142
DTSTART;TZID=America/Detroit:20241113T130000
DTEND;TZID=America/Detroit:20241113T150000
SUMMARY:Careers / Jobs:Webinar Honoring HHS Veterans: Exploring Career Paths in Science and Medicine at HHS
DESCRIPTION:HHS is hosting the virtual event for veterans\, “Webinar Honoring HHS Veterans: Exploring Career Paths in Science and Medicine at HHS” on Wednesday\, November 13\, from 1-3 p.m. ET. Veterans\, register for the webinar: Veterans in Action: Careersin Health Science and Medicine at HHSThe webinar will showcaseveterans excelling in diverse career opportunities across HHS in health science and medicine and provide veterans with valuable advice for pursuing similar opportunities. Our veteran panelists from CDC\, FDA\, and NIH will share insights into their careers and discuss how their military service has shaped their paths.Veterans\, join us to discover essential roles in the federal government and to receive valuable advice for pursuingsimilar opportunities. The webinar is open to the public.
UID:127368-21858948@events.umich.edu
URL:https://events.umich.edu/event/127368
CLASS:PUBLIC
STATUS:CONFIRMED
CATEGORIES:
LOCATION:
CONTACT:
END:VEVENT
END:VCALENDAR