BEGIN:VCALENDAR
VERSION:2.0
PRODID:-//UM//UM*Events//EN
CALSCALE:GREGORIAN
BEGIN:VTIMEZONE
TZID:America/Detroit
TZURL:http://tzurl.org/zoneinfo/America/Detroit
X-LIC-LOCATION:America/Detroit
BEGIN:DAYLIGHT
TZOFFSETFROM:-0500
TZOFFSETTO:-0400
TZNAME:EDT
DTSTART:20070311T020000
RRULE:FREQ=YEARLY;BYMONTH=3;BYDAY=2SU
END:DAYLIGHT
BEGIN:STANDARD
TZOFFSETFROM:-0400
TZOFFSETTO:-0500
TZNAME:EST
DTSTART:20071104T020000
RRULE:FREQ=YEARLY;BYMONTH=11;BYDAY=1SU
END:STANDARD
END:VTIMEZONE
BEGIN:VEVENT
DTSTAMP:20240414T172023
DTSTART;TZID=America/Detroit:20240414T173000
DTEND;TZID=America/Detroit:20240414T203000
SUMMARY:Workshop / Seminar:Roller Skating with SHPE-G\, GSBES\, and NSBP
DESCRIPTION:All graduate students in STEM are invited to a night of free skating\, skate rentals\, food\, and fun\, brought to you by the Society of Hispanic Professional Engineers - Grad (SHPE-G)\, the Graduate Society of Black Engineers and Scientists (GSBES)\, and NSBP (National Society of Black Physicists). Skating will take place at RollerCade Detroit\, a historic Detroit roller rink that has been in business since 1955. \nCome hang out\, chill\, and meet other graduate students in STEM. \nFunding provided by a community grant from the College of Engineering Office of the Associate Dean for Graduate & Professional Education.\n
UID:121155-21845899@events.umich.edu
URL:https://events.umich.edu/event/121155
CLASS:PUBLIC
STATUS:CONFIRMED
CATEGORIES:Sessions
LOCATION:2130 Schaefer Hwy, Detroit, MI 48217
CONTACT:
END:VEVENT
BEGIN:VEVENT
DTSTAMP:20240404T173445
DTSTART;TZID=America/Detroit:20240414T173000
DTEND;TZID=America/Detroit:20240414T193000
SUMMARY:Recreational / Games:Skate Party
DESCRIPTION:We are having a pre-finals\, end-of-semester celebration at RollerCade Detroit on Sunday\, April 14th at 5:30 pm. RollerCade is a historic Black- and family-owned roller rink in Southwest Detroit near Mexican Town that has been in operation continuously since 1955. Come join us for free skating\, free skate rentals\, free food\, and fun hanging out with fellow grad students. Fill out the form below to indicate if you need a ride or can help by driving others.
UID:121160-21845907@events.umich.edu
URL:https://events.umich.edu/event/121160
CLASS:PUBLIC
STATUS:CONFIRMED
CATEGORIES:College Of Engineering,Undergraduate Students,Physics,Graduate Students,free,Food,Engineering
LOCATION:Off Campus Location
CONTACT:
END:VEVENT
BEGIN:VEVENT
DTSTAMP:20240413T160501
DTSTART;TZID=America/Detroit:20240414T173000
DTEND;TZID=America/Detroit:20240414T190000
SUMMARY:Well-being:Walk in the Arb
DESCRIPTION:Join us at the Markley entrance of the Arb for a fun walk with WSN
UID:121442-21846554@events.umich.edu
URL:https://events.umich.edu/event/121442
CLASS:PUBLIC
STATUS:CONFIRMED
CATEGORIES:Community,Free,Freshman,Health & Wellness,Well-being
LOCATION:Mary Markley Hall
CONTACT:
END:VEVENT
END:VCALENDAR