BEGIN:VCALENDAR
VERSION:2.0
PRODID:-//UM//UM*Events//EN
CALSCALE:GREGORIAN
BEGIN:VTIMEZONE
TZID:America/Detroit
TZURL:http://tzurl.org/zoneinfo/America/Detroit
X-LIC-LOCATION:America/Detroit
BEGIN:DAYLIGHT
TZOFFSETFROM:-0500
TZOFFSETTO:-0400
TZNAME:EDT
DTSTART:20070311T020000
RRULE:FREQ=YEARLY;BYMONTH=3;BYDAY=2SU
END:DAYLIGHT
BEGIN:STANDARD
TZOFFSETFROM:-0400
TZOFFSETTO:-0500
TZNAME:EST
DTSTART:20071104T020000
RRULE:FREQ=YEARLY;BYMONTH=11;BYDAY=1SU
END:STANDARD
END:VTIMEZONE
BEGIN:VEVENT
DTSTAMP:20240912T181737
DTSTART;TZID=America/Detroit:20241113T132000
DTEND;TZID=America/Detroit:20241113T135000
SUMMARY:Performance:Jenna Moon\, carillon
DESCRIPTION:SMTD doctoral alumna Jenna Moon performs on the Ann & Robert H. Lurie Carillon\, an instrument of 60 bells with the lowest bell (bourdon) weighing 6 tons.\n\nThirty-minute recitals are performed on the Lurie Carillon every weekday that classes are in session. During these recitals\, visitors may take the elevator to level 2 to view the largest bells\, or to level 3 to see the carillonist performing. (Visitors subject to acrophobia are recommended to visit level 2 only.) An optional spiral stairway between levels 2 and 3 allows for up-close views of some of the largest bells.
UID:126339-21856908@events.umich.edu
URL:https://events.umich.edu/event/126339
CLASS:PUBLIC
STATUS:CONFIRMED
CATEGORIES:Alumni,Free,Music,North Campus,Talk
LOCATION:Lurie Ann & Robert H. Tower
CONTACT:
END:VEVENT
BEGIN:VEVENT
DTSTAMP:20241128T123158
DTSTART;TZID=America/Detroit:20241113T140000
DTEND;TZID=America/Detroit:20241113T144500
SUMMARY:Careers / Jobs:Cushman & Wakefield DEI Panel Series: Intersectionality
DESCRIPTION:Cushman &amp\; Wakefield invites all students\, current C&amp\;W interns and graduates to attend our virtual DEI Panel Series this November 2024\, where you will hear from C&amp\;W professionals who are passionate about fostering a culture of inclusion and belonging in the workplace.This session will cover:Intersectionality: This session will dive into the multifaceted concept of intersectionality. Our diverse group of speakers will explore the overlapping layers of social categorizations and their impact on individuals in the workplace. Engage in thought-provoking discussions\, gain new perspectives\, and learn how to foster an inclusive environment that recognizes and celebrates the complexity of individual identities. November 13th at 11am PST/ 1pm CST/ 2pm ESTWe will also host 2 other sessions covering:• Embracing Diverse Perspectives: We will explore the dynamic advantages of a truly inclusive environment. We will uncoverhow embracing diversity not only enriches our work culture but also propels the commercial real estate sector forward through innovative thinking and collective wisdom. Engage with leaders and change-makers who will shareinsights on fostering an atmosphere where every voice is heard and valued\, contributing to the tapestry of a vibrant and successful industry. November 20th at 11am PST/ 1pm CST/ 2pm EST•Navigating Unconscious Bias: This insightful discussion will go into the subtle\, often unnoticed prejudices that shape our interactions and decisions in professional environments. Our panel will shed light on howunconscious biases form\, their impact on workplace dynamics\, and strategies for fostering a more inclusive and equitable work culture. Through interactive dialogue and real-world examples\, participants will gain valuable tools to identify and challenge their own biases\, contributing to a more diverse and understanding workplace. November 6th at 11am PST/ 1pm CST/ 2pm ESTIn order to attend the event\, youneed to register using the external link. You will receive an email confirmation once registered.&nbsp\;We look forward to you joining us! Questions? Contact us at EarlyinCareer@cushwake.com
UID:128233-21860461@events.umich.edu
URL:https://events.umich.edu/event/128233
CLASS:PUBLIC
STATUS:CONFIRMED
CATEGORIES:
LOCATION:
CONTACT:
END:VEVENT
BEGIN:VEVENT
DTSTAMP:20240919T084016
DTSTART;TZID=America/Detroit:20241113T140000
DTEND;TZID=America/Detroit:20241113T150000
SUMMARY:Other:Grant Office Hours for Student Sustainability Coalition: Planet Blue Student Innovation Fund & Social and Environmental Grants
DESCRIPTION:The Student Sustainability Coalition manages $200\,000 worth of grant money that we allocate to student groups who are working on projects related to environmental and social sustainability on Campus! Our grant programs include the Planet Blue Student Innovation Fund and the Social and Environmental Sustainability Grant. \n\nJoin us in these information sessions to learn more about which grant program is right for your project and get the support you and your team needs through the application process!\n\nInfo sessions take place virtually every Tuesday from 10-11a and every Wednesday from 2-3p. Come chat with us!
UID:113301-21857524@events.umich.edu
URL:https://events.umich.edu/event/113301
CLASS:PUBLIC
STATUS:CONFIRMED
CATEGORIES:Activism,Anthropology,Architecture,Art,Arts of Islam,ArtsEngine,Astronomy,Basic Science,Biointerfaces,Biology,Biomedical Engineering,Biosciences,Business,Chemistry,Civil and Environmental Engineering,Climate and Space Sciences and Engineering,Community Service,Dance,Disability,Discussion,Diversity,Diversity Equity and Inclusion,Diversity Strategic Plan,Diversity Summit,Ecology,Economics,Education,Electrical Engineering and Computer Science,Energy,Engineering,Engineering Academic Calendar,Entrepreneurship,Environment,Exhibition,Film,Food,Graduate,Graduate and Professional Students,Graduate School,Graduate Students,Humanities,Immigration,Inclusion,Industrial and Operations Engineering,Information and Technology,Integrative Systems,Interdisciplinary,International,Leadership,Learning Center,LGBT,LGBTQ Graduate Student,Library,Life Science,Lifelong Learning,Literature,Materials Science,Mathematics,Mechanical Engineering,Media,Medicine,MESA,Michigan Engineering,Michigan Robotics,Mindfulness,Multicultural,Multidisciplinary Design,Museum,Music,Native American,Natural Sciences,Nature,Naval Architecture and Marine Engineering,Nuclear Engineering and Radiological Sciences,Outdoors,Philosophy,Physics,planet blue,Poetry,Politics,Postdoctoral Research Fellows,Pre Med,Pre-Health,Pre-Law,Prospective Graduate Students,Prospective Undergraduate Students,Psychology,Public Health,Public Policy,Rackham,Robotics,Science,Social,Social Impact,Social Justice,Social Sciences,Sociology,Southeast Asia,Spanish Studies,Staff,Storytelling,Structural Biology,Sustainability,Talk,Theater,UMMA,UMS,Undergraduate,Undergraduate Students,Virtual,Visual Arts,Welcome to Michigan,Well-being,Women's Studies,Workshop,Writing
LOCATION:Off Campus Location
CONTACT:
END:VEVENT
END:VCALENDAR