BEGIN:VCALENDAR
VERSION:2.0
PRODID:-//UM//UM*Events//EN
CALSCALE:GREGORIAN
BEGIN:VTIMEZONE
TZID:America/Detroit
TZURL:http://tzurl.org/zoneinfo/America/Detroit
X-LIC-LOCATION:America/Detroit
BEGIN:DAYLIGHT
TZOFFSETFROM:-0500
TZOFFSETTO:-0400
TZNAME:EDT
DTSTART:20070311T020000
RRULE:FREQ=YEARLY;BYMONTH=3;BYDAY=2SU
END:DAYLIGHT
BEGIN:STANDARD
TZOFFSETFROM:-0400
TZOFFSETTO:-0500
TZNAME:EST
DTSTART:20071104T020000
RRULE:FREQ=YEARLY;BYMONTH=11;BYDAY=1SU
END:STANDARD
END:VTIMEZONE
BEGIN:VEVENT
DTSTAMP:20240302T175435
DTSTART;TZID=America/Detroit:20240414T180000
DTEND;TZID=America/Detroit:20240414T200000
SUMMARY:Performance:A Musical Journey to Cyprus: Traditional Songs of Love\, Sorrow\, and Hope
DESCRIPTION:Throughout history\, Cyprus has been variously described as ‘the island of love’\, ‘the birthplace of Aphrodite’\, ‘the blessed isle’\, ‘the land of lemon and olive trees’\, among many other things. But in the past half century\, Cyprus has also been known as a land of pain and sorrow\; an island of division and loss. \n\nOn this ‘Musical Journey to Cyprus’\, Nicoletta Demetriou (voice)\, Nikitas Tampakis (viola)\, and Panayotis League (laouto) explore this varied identity\, as expressed through the island’s music and song. Join these three accomplished musicians on an imaginary journey to Cyprus\, as they sing about the joys and intricacies of love\, the pain and sorrow of loss\, and the hope for better days to come. \n\nFeaturing Nicoletta Demetriou (voice)\, Nikitas Tampakis (viola)\, and Panayotis League (laouto):\n\nNicoletta Demetriou is an ethnomusicologist and singer specializing in the traditional music and oral poetry of Cyprus. Born and raised in Cyprus\, she has been performing Cypriot traditional songs since childhood. In addition to Cyprus\, she has performed in the UK and the US\, where she was a Fulbright Fellow and a Visiting Fellow in Hellenic Studies at Princeton. She has a Ph.D. in Ethnomusicology from SOAS\, University of London\, and currently serves as director of Cyprus Music Archive\, a non-profit organization founded by herself in 2022. \n\nNikitas Tampakis is a violist\, vocalist\, and composer. He received his undergraduate degree in computer science and linguistics from Princeton University\, where he was a member of the university orchestra\, band\, and chapel choir. Nikitas regularly produces and directs Greek concert programs for the Seeger Center for Hellenic Studies at Princeton. As a member of the Sináfi Music Collective and collaborator of Grigoris Maninakis\, Nikitas frequently performs in venues throughout the northeast US. Outside of music\, Nikitas is the Director of Application Development at the University of Pennsylvania Libraries and oversees the Digital Library program\, including the website\, search engine\, and digital collections systems.\n\nPanayotis League is a multi-instrumentalist\, composer\, and musicologist specializing in the traditional music and oral poetry of the Greek diaspora and music inspired by its prevailing textures and themes. He has performed extensively across the US\, Europe\, Greece\, and Brazil\, and been featured on dozens of recordings. He holds a PhD in Ethnomusicology from Harvard University\, and serves as Assistant Professor of Musicology and Director of the Center for Music of the Americas at Florida State University.\n\nDoors open at 5:45 PM with light refreshments. \nThe concert begins at 6:15 PM.
UID:119579-21843034@events.umich.edu
URL:https://events.umich.edu/event/119579
CLASS:PUBLIC
STATUS:CONFIRMED
CATEGORIES:In Person,Classical Studies,Music,Modern Greek,Free,Culture,comparative literature
LOCATION:Off Campus Location
CONTACT:
END:VEVENT
BEGIN:VEVENT
DTSTAMP:20240321T121718
DTSTART;TZID=America/Detroit:20240414T190000
DTEND;TZID=America/Detroit:20240414T200000
SUMMARY:Performance:Adria Cafferillo\, flute
DESCRIPTION:Undergraduate student Adria Cafferillo performs a recital.
UID:120538-21844877@events.umich.edu
URL:https://events.umich.edu/event/120538
CLASS:PUBLIC
STATUS:CONFIRMED
CATEGORIES:Music,North Campus,Free
LOCATION:Earl V. Moore Building - Britton Recital Hall
CONTACT:
END:VEVENT
BEGIN:VEVENT
DTSTAMP:20240412T150632
DTSTART;TZID=America/Detroit:20240414T190000
DTEND;TZID=America/Detroit:20240414T200000
SUMMARY:Film Screening:Exploring Identity: Film Screening & Dialogue on Race\, Ethnicity\, and Sexuality!
DESCRIPTION:SAPAC is excited to invite you to an upcoming event\, Exploring Identity: Film Screening & Dialogue on Race\, Ethnicity\, and Sexuality! \n\nPlease join us for a short film viewing of Lucky Fish by director Emily Jampel followed by introspective group conversation!\n\nWhen: April 14th from 7-8pm \nWhere: Trotter Multipurpose Room \n\nPizza will be provided!\n\nThis event will explore how race\, ethnicity\, and immigration has an impact on one’s sexuality and relationships while equipping students with tools to recognize these impacts in their own lives. We hope to see you all there!\n\nRSVP LINK: https://docs.google.com/forms/d/e/1FAIpQLSfbvlFqDTbSl0U51e5lINkq5-KNVuQOuR1veu4oQUxD7JXDNg/viewform
UID:121419-21846525@events.umich.edu
URL:https://events.umich.edu/event/121419
CLASS:PUBLIC
STATUS:CONFIRMED
CATEGORIES:Saam,Well-being,Sexual Assault Awareness Month,sapac,free,Food,Film
LOCATION:Trotter Multicultural Center - Multipurpose Room
CONTACT:
END:VEVENT
END:VCALENDAR