BEGIN:VCALENDAR
VERSION:2.0
PRODID:-//UM//UM*Events//EN
CALSCALE:GREGORIAN
BEGIN:VTIMEZONE
TZID:America/Detroit
TZURL:http://tzurl.org/zoneinfo/America/Detroit
X-LIC-LOCATION:America/Detroit
BEGIN:DAYLIGHT
TZOFFSETFROM:-0500
TZOFFSETTO:-0400
TZNAME:EDT
DTSTART:20070311T020000
RRULE:FREQ=YEARLY;BYMONTH=3;BYDAY=2SU
END:DAYLIGHT
BEGIN:STANDARD
TZOFFSETFROM:-0400
TZOFFSETTO:-0500
TZNAME:EST
DTSTART:20071104T020000
RRULE:FREQ=YEARLY;BYMONTH=11;BYDAY=1SU
END:STANDARD
END:VTIMEZONE
BEGIN:VEVENT
DTSTAMP:20240922T001547
DTSTART;TZID=America/Detroit:20241113T140000
DTEND;TZID=America/Detroit:20241113T150000
SUMMARY:Livestream / Virtual:Rackham Consultation Services: Virtual Office Hours
DESCRIPTION:If you have a quick question or have a time sensitive matter\, attend the Rackham Consultation Services open office hours weekly on Monday and Wednesday from 2:00 to 3:00 p.m. via Zoom. In the interest of providing students as much privacy as possible\, you may spend a brief time in a waiting room if the resolution officer is engaged with another student. They will be with you as quickly as possible.\nJoin Zoom Meeting\nhttps://umich.zoom.us/j/99196090990\nMeeting ID: 991 9609 0990\nOne tap mobile\n+13092053325\,\,99196090990# US\n+13126266799\,\,99196090990# US (Chicago)\n—\nDial by your location\n\n+1 309 205 3325 US\n+1 312 626 6799 US (Chicago)\n+1 646 876 9923 US (New York)\n+1 646 931 3860 US\n+1 301 715 8592 US (Washington DC)\n+1 305 224 1968 US\n+1 386 347 5053 US\n+1 507 473 4847 US\n+1 564 217 2000 US\n+1 669 444 9171 US\n+1 669 900 6833 US (San Jose)\n+1 689 278 1000 US\n+1 719 359 4580 US\n+1 253 205 0468 US\n+1 253 215 8782 US (Tacoma)\n+1 346 248 7799 US (Houston)\n+1 360 209 5623 US\n+1 647 558 0588 Canada\n+1 778 907 2071 Canada\n+1 780 666 0144 Canada\n+1 204 272 7920 Canada\n+1 438 809 7799 Canada\n+1 587 328 1099 Canada\n+1 647 374 4685 Canada\n\nFind your local number: https://umich.zoom.us/u/aUy8Alk2\n—\nJoin by SIP\n\n99196090990@zoomcrc.com\n\nWe want to ensure full and equitable participation in our events. If an accommodation would promote your full participation in this event\, please follow the registration link to indicate your accommodation requirements. Please let us know as soon as possible in order to have adequate time\, preferably one week\, to arrange for your requested accommodations or an effective alternative.
UID:126769-21857885@events.umich.edu
URL:https://events.umich.edu/event/126769
CLASS:PUBLIC
STATUS:CONFIRMED
CATEGORIES:Graduate Students
LOCATION:Off Campus Location
CONTACT:
END:VEVENT
BEGIN:VEVENT
DTSTAMP:20241031T093336
DTSTART;TZID=America/Detroit:20241113T140000
DTEND;TZID=America/Detroit:20241113T170000
SUMMARY:Workshop / Seminar:Rock the Mock: Behavioral Interview
DESCRIPTION:Interview jitters? The LSA Opportunity Hub is here to help. Participate in a mock interview with an employer representative to build up the confidence you need to nail your next interview! This is your chance to practice your interviewing skills and get real-time feedback from employers\, ahead of the recruiting season. Hub coaches will also be on standby to provide drop-in coaching that can further fine-tune your interview preparation. Emerge from this session with the skills you need to rock any interview!\n\nYou should attend this Employer Connection if you are:\n\n \n\nAn LSA student in any year\n\n \n\nAn LSA student looking for extra interview practice and preparing for recruiting season\n\n \n\nEager to demystify and excel in behavioral and technical interviews\n\n \n\nEager to connect with employers and tap into their industry knowledge\n\n \n\nWhat you’ll gain by attending:\n\nGain practical experience to confidently navigate the interview process\n\n \n\nGet insights on how to effectively communicate your experiences and skills in a high-pressure interview setting\n\n \n\nUse this opportunity to share your résumé with the respective recruiting teams\n\n \n\nMake valuable connections with employers looking to hire LSA students\n\n \n\nCompanies will attend both virtually and in-person. Both will be held in the LSA 1st Floor interview rooms with virtual employers cast onto the screens. When signing up for a schedule slot\, rooms containing virtual employers will be noted. Confirmed employers include:\n\nTBD\n\nThe LSA Opportunity Hub aims to deliver inclusive and accessible experiences and welcomes all LSA students to participate. This event is on the first floor of a wheelchair accessible building which includes wheelchair-accessible restrooms on the first floor\, a gender-inclusive and accessible restroom on the first floor\, places to sit or stand during the event\, and accessible parking options nearby on Maynard Street. Ramps are located at the East entrance (from State St.) and the Northwest entrance (from Maynard). Power doors are located at the Northwest entrance. To request other accommodations please contact LSA Hub Events at lsa.hubevents@umich.edu or 734-764-4920 so we can make arrangements.\n\nRSVP NOW to reserve your spot as capacity is limited.
UID:124554-21853194@events.umich.edu
URL:https://events.umich.edu/event/124554
CLASS:PUBLIC
STATUS:CONFIRMED
CATEGORIES:Interview,Transfer Student Center,Lsa Opportunity Hub,Career
LOCATION:LSA Building - LSA Building Interview Rooms
CONTACT:
END:VEVENT
BEGIN:VEVENT
DTSTAMP:20240906T100304
DTSTART;TZID=America/Detroit:20241113T143000
DTEND;TZID=America/Detroit:20241113T155000
SUMMARY:Workshop / Seminar:Labor Seminar: Wednesday\, November 13
DESCRIPTION:--
UID:125901-21856260@events.umich.edu
URL:https://events.umich.edu/event/125901
CLASS:PUBLIC
STATUS:CONFIRMED
CATEGORIES:Economics,Labor,seminar
LOCATION:Lorch Hall - 201
CONTACT:
END:VEVENT
END:VCALENDAR