BEGIN:VCALENDAR
VERSION:2.0
PRODID:-//UM//UM*Events//EN
CALSCALE:GREGORIAN
BEGIN:VTIMEZONE
TZID:America/Detroit
TZURL:http://tzurl.org/zoneinfo/America/Detroit
X-LIC-LOCATION:America/Detroit
BEGIN:DAYLIGHT
TZOFFSETFROM:-0500
TZOFFSETTO:-0400
TZNAME:EDT
DTSTART:20070311T020000
RRULE:FREQ=YEARLY;BYMONTH=3;BYDAY=2SU
END:DAYLIGHT
BEGIN:STANDARD
TZOFFSETFROM:-0400
TZOFFSETTO:-0500
TZNAME:EST
DTSTART:20071104T020000
RRULE:FREQ=YEARLY;BYMONTH=11;BYDAY=1SU
END:STANDARD
END:VTIMEZONE
BEGIN:VEVENT
DTSTAMP:20240411T181619
DTSTART;TZID=America/Detroit:20240414T190000
DTEND;TZID=America/Detroit:20240414T203000
SUMMARY:Performance:Gamelan Ensemble Concert
DESCRIPTION:Comprising of seventy-five gongs\, percussion and other instruments\, the U-M gamelan\, named Kyai Telaga Madu (Venerable Lake of Honey)\, is part of the Stearns Collection of Musical Instruments. The U-M Gamelan Ensemble offers members the opportunity to explore new music composed for gamelan and helps train an important generation of scholars in Southeast Asian music.\n\nGamelan performances bring the music\, dance and puppetry of Central Java to the stage in Ann Arbor\, often featuring eminent Javanese artists-in-residence. The gamelan program is part of U-M’s Center for Southeast Asian Studies at LSA.\n\n*Please note: The outdoor performance start time is now 7:00 pm. If the concert must relocate indoors due to rain/weather\, the start time will be 8:00 pm at Hankinson Hall\, Moore Building.*
UID:121124-21845856@events.umich.edu
URL:https://events.umich.edu/event/121124
CLASS:PUBLIC
STATUS:CONFIRMED
CATEGORIES:Music,Interdisciplinary,Free,Diversity,Culture,Concert
LOCATION:Off Campus Location
CONTACT:
END:VEVENT
BEGIN:VEVENT
DTSTAMP:20240329T181659
DTSTART;TZID=America/Detroit:20240414T190000
DTEND;TZID=America/Detroit:20240414T200000
SUMMARY:Performance:MA in Media Arts Thesis Performance: SinYu Deng
DESCRIPTION:*Bare Display* is an avant-garde interactive immersive dance performance\, set to unfold in the Brehm Technology Suite on April 13 and 14 at 7:00 pm. Presented by SinYu Deng\, candidate for the MA in Media Arts in the Department of Performing Arts Technology.\n\nThis provocative piece delves deep into the commodification and objectification of the human body within society\, presenting a critical examination of how bodies are standardized\, traded\, and valued as mere objects awaiting utilitarian use. It confronts the audience with the unsettling reality of bodies transformed into standardized commodities\, subject to scrutiny\, control\, and consumption.\n\nThrough the medium of dance\, performers in *Bare Display* become the observed\, symbolizing victims confined within the spectacle of the stage. This performance serves as a stark mirror\, reflecting the harsh truths about societal norms and the commodification practices that dehumanize and depersonalize the individual. Incorporating a blend of sound\, visual effects\, and motion capture technology\, *Bare Display* not only challenges but also immerses the audience in a narrative centered around the 'body' as the main axis of the exhibition.\n\nThis daring exploration invites viewers to reconsider the value and autonomy of the human form in a digitized and scrutinized world. *Bare Display* aims to provoke thought\, stir debate\, and inspire a reevaluation of the roles that bodies play in a consumer-driven culture\, highlighting the often overlooked implications of treating bodies as exhibits to be observed\, judged\, and utilized.
UID:120946-21845590@events.umich.edu
URL:https://events.umich.edu/event/120946
CLASS:PUBLIC
STATUS:CONFIRMED
CATEGORIES:North Campus,Music,Media,Free,Dance,Art
LOCATION:Earl V. Moore Building - Brehm Technology Suite
CONTACT:
END:VEVENT
BEGIN:VEVENT
DTSTAMP:20240410T181623
DTSTART;TZID=America/Detroit:20240414T190000
DTEND;TZID=America/Detroit:20240414T210000
SUMMARY:Performance:Orpheus Singers
DESCRIPTION:The graduate choral conducting studio performs an eclectic program from the Baroque to the 21st century focusing on themes of hope and celebration. Featuring the music of Antonio Vivaldi\, Mari Valverde\, and a new adaptation of Dvořákk's Mass in D major for choir and wind quintet. \n\nPROGRAM\n\nDvořák\, Mass in D major\n\nAntonio Vivaldi\, *Magnificat*\n\nMari Valverde\, *The Cloths of Heaven*
UID:108753-21820353@events.umich.edu
URL:https://events.umich.edu/event/108753
CLASS:PUBLIC
STATUS:CONFIRMED
CATEGORIES:Concert,North Campus,Music,Free
LOCATION:Walgreen Drama Center - Stamps Auditorium
CONTACT:
END:VEVENT
END:VCALENDAR