BEGIN:VCALENDAR
VERSION:2.0
PRODID:-//UM//UM*Events//EN
CALSCALE:GREGORIAN
BEGIN:VTIMEZONE
TZID:America/Detroit
TZURL:http://tzurl.org/zoneinfo/America/Detroit
X-LIC-LOCATION:America/Detroit
BEGIN:DAYLIGHT
TZOFFSETFROM:-0500
TZOFFSETTO:-0400
TZNAME:EDT
DTSTART:20070311T020000
RRULE:FREQ=YEARLY;BYMONTH=3;BYDAY=2SU
END:DAYLIGHT
BEGIN:STANDARD
TZOFFSETFROM:-0400
TZOFFSETTO:-0500
TZNAME:EST
DTSTART:20071104T020000
RRULE:FREQ=YEARLY;BYMONTH=11;BYDAY=1SU
END:STANDARD
END:VTIMEZONE
BEGIN:VEVENT
DTSTAMP:20241128T123141
DTSTART;TZID=America/Detroit:20241113T143000
DTEND;TZID=America/Detroit:20241113T144500
SUMMARY:Careers / Jobs:M&T Bank Information Blitz - 11/13/2024
DESCRIPTION:Come join the Early Talent Team at M&amp\;T Bank for a fun and fast session to learn about what it's like to work at a Community Bank! We'll cover who we are as an organization as well as full time and internship opportunities we're currently hiring for. Come as youare! No pressure for video - join between classes or on a break! Don’t forget to follow us on Handshake as well!  Handshake - M&amp\;T Bank *Multiple sessions available to join throughout the fall semester!
UID:127235-21858682@events.umich.edu
URL:https://events.umich.edu/event/127235
CLASS:PUBLIC
STATUS:CONFIRMED
CATEGORIES:
LOCATION:
CONTACT:
END:VEVENT
BEGIN:VEVENT
DTSTAMP:20241128T123134
DTSTART;TZID=America/Detroit:20241113T150000
DTEND;TZID=America/Detroit:20241113T154500
SUMMARY:Careers / Jobs:Early Careers: EY Next Steps: EY Open Science AI & Data Challenge Information Session
DESCRIPTION:A sustainable future depends on being able to produce enough nutritious food for the world’s population. Using a combination of data\, algorithms\, and artificial intelligence we can help develop new toolsto help feed the world. Come learn about the EY Open Science Data Challenge and how you can help solve world hunger. challenge.ey.com.
UID:126471-21857175@events.umich.edu
URL:https://events.umich.edu/event/126471
CLASS:PUBLIC
STATUS:CONFIRMED
CATEGORIES:
LOCATION:
CONTACT:
END:VEVENT
BEGIN:VEVENT
DTSTAMP:20240917T124250
DTSTART;TZID=America/Detroit:20241113T150000
DTEND;TZID=America/Detroit:20241113T160000
SUMMARY:Recreational / Games:Kreativwerkstatt
DESCRIPTION:Chat in German and express yourself creatively. Crafting\, coloring\, painting\, drawing\, knitting\, sewing\, crochet\, embroidery\, origami? You will combine speaking German\, any level welcome\, beginners included\, and creatively expressing yourself. You are encouraged to bring your own materials or (ongoing) projects\, but we will also provide some materials and prompts each week. Contact Laura Okkema (lokkema@umich.edu) or Iris Zapf-Garcia (iriszaga@umich.edu.) with questions.
UID:125318-21857339@events.umich.edu
URL:https://events.umich.edu/event/125318
CLASS:PUBLIC
STATUS:CONFIRMED
CATEGORIES:German,German Studies,Germanic Languages And Literatures
LOCATION:Modern Languages Building - 3308
CONTACT:
END:VEVENT
END:VCALENDAR