BEGIN:VCALENDAR
VERSION:2.0
PRODID:-//UM//UM*Events//EN
CALSCALE:GREGORIAN
BEGIN:VTIMEZONE
TZID:America/Detroit
TZURL:http://tzurl.org/zoneinfo/America/Detroit
X-LIC-LOCATION:America/Detroit
BEGIN:DAYLIGHT
TZOFFSETFROM:-0500
TZOFFSETTO:-0400
TZNAME:EDT
DTSTART:20070311T020000
RRULE:FREQ=YEARLY;BYMONTH=3;BYDAY=2SU
END:DAYLIGHT
BEGIN:STANDARD
TZOFFSETFROM:-0400
TZOFFSETTO:-0500
TZNAME:EST
DTSTART:20071104T020000
RRULE:FREQ=YEARLY;BYMONTH=11;BYDAY=1SU
END:STANDARD
END:VTIMEZONE
BEGIN:VEVENT
DTSTAMP:20250219T181743
DTSTART;TZID=America/Detroit:20250225T200000
DTEND;TZID=America/Detroit:20250225T213000
SUMMARY:Performance:Cecilia Meyer\, choral conducting
DESCRIPTION:Cecilia Meyer\, masters student in choral conducting\, presents a recital.
UID:132612-21871393@events.umich.edu
URL:https://events.umich.edu/event/132612
CLASS:PUBLIC
STATUS:CONFIRMED
CATEGORIES:Free,Music
LOCATION:Off Campus Location
CONTACT:
END:VEVENT
BEGIN:VEVENT
DTSTAMP:20250206T143714
DTSTART;TZID=America/Detroit:20250226T063000
DTEND;TZID=America/Detroit:20250226T183000
SUMMARY:Other:Big Heart Blood Battle
DESCRIPTION:Help the University of Michigan beat Penn State\, Michigan State\, and Wisconsin in the annual Winter Battle\, hosted by Blood Drives United\, in which Big Ten schools compete to see who can raise the most pints of blood! Donate blood anytime from now to February 28th at one of our participating drives and save up to three lives. Donors receive a free Big Heart shirt\, a Washtenaw Dairy coupon while supplies last\, a $15 e-gift card from the Red Cross\, and the opportunity to join a drawing for prizes from local businesses. Go to bloodbattle.org to see the full schedule of drives\, as well as the prize drawing items. Go blue and bleed blue!
UID:132450-21870985@events.umich.edu
URL:https://events.umich.edu/event/132450
CLASS:PUBLIC
STATUS:CONFIRMED
CATEGORIES:blood,Community Service,competition,Donate,Faculty,Food,Free,Health & Wellness,Pre Med,Pre-Health,Redcross,service,Student Org,student organization,Undergraduate,Volunteer,Wellness
LOCATION:University Hospitals - Towsley Lobby
CONTACT:
END:VEVENT
BEGIN:VEVENT
DTSTAMP:20250213T133729
DTSTART;TZID=America/Detroit:20250226T070000
DTEND;TZID=America/Detroit:20250226T220000
SUMMARY:Exhibition:Pierpont Poetry Project
DESCRIPTION:Check out the Pierpont Poetry Project! 50 student-written poems are on display throughout Pierpont Commons. The poems were all inspired by the theme “seeking” but interpreted in many different ways - they explore themes of love\, justice\, family\, loss\, hope\, identity\, and more. Explore the building and find all the poems - for every poem you log\, you’ll be entered into a drawing for a Literati Bookstore gift card!
UID:132261-21871698@events.umich.edu
URL:https://events.umich.edu/event/132261
CLASS:PUBLIC
STATUS:CONFIRMED
CATEGORIES:Art,Exhibition,Poetry
LOCATION:Pierpont Commons
CONTACT:
END:VEVENT
END:VCALENDAR