BEGIN:VCALENDAR
VERSION:2.0
PRODID:-//UM//UM*Events//EN
CALSCALE:GREGORIAN
BEGIN:VTIMEZONE
TZID:America/Detroit
TZURL:http://tzurl.org/zoneinfo/America/Detroit
X-LIC-LOCATION:America/Detroit
BEGIN:DAYLIGHT
TZOFFSETFROM:-0500
TZOFFSETTO:-0400
TZNAME:EDT
DTSTART:20070311T020000
RRULE:FREQ=YEARLY;BYMONTH=3;BYDAY=2SU
END:DAYLIGHT
BEGIN:STANDARD
TZOFFSETFROM:-0400
TZOFFSETTO:-0500
TZNAME:EST
DTSTART:20071104T020000
RRULE:FREQ=YEARLY;BYMONTH=11;BYDAY=1SU
END:STANDARD
END:VTIMEZONE
BEGIN:VEVENT
DTSTAMP:20240801T190159
DTSTART;TZID=America/Detroit:20241029T130000
DTEND;TZID=America/Detroit:20241029T143000
SUMMARY:Workshop / Seminar:Accessibility Practices for Community-Engaged Teaching & Learning
DESCRIPTION:Community-engaged courses invite undergraduate and graduate students at Michigan to work with and in local communities through course assignments\, clinical experiences\, research projects\, service hours\, partnership development and other forms of engagement. Making these community-engaged learning activities accessible to students requires instructors to commit to considerable reflection\, planning\, and communication with students and community partners. In this session\, participants will learn about common barriers to student access associated with community-engaged courses\, identify accessibility practices for course design and disability accommodations\, and discuss how to apply these practices to their own community-engaged courses and programs. \n\nThis sessions is designed for participants with instructional responsibilities and is open to faculty\, admin/staff\, post-docs\, and graduate student instructors (GSIs).
UID:123471-21850973@events.umich.edu
URL:https://events.umich.edu/event/123471
CLASS:PUBLIC
STATUS:CONFIRMED
CATEGORIES:Ginsberg Center,Civic Engagement,Community Engagement,Community-based Learning,Democratic Engagement,Faculty,Graduate and Professional Students,Sessions,Staff,Teaching,Washtenaw County
LOCATION:Off Campus Location
CONTACT:
END:VEVENT
BEGIN:VEVENT
DTSTAMP:20241113T003157
DTSTART;TZID=America/Detroit:20241029T130000
DTEND;TZID=America/Detroit:20241029T140000
SUMMARY:Careers / Jobs:Investment Banking\, Leveraged Finance Group - Virtual InformationSession (2024)
DESCRIPTION:Build a Solid Foundation with William BlairAt William Blair we believe that investing in the growth and success of our employees is critical to the success and growth of our clients - and the industry at large. If you are currently a student interested in exploring opportunities within the Leveraged Finance Group\, graduating between December 2026 - June 2027 and want to learn how William Blair’s programs can help jumpstart your career in investment banking\, we invite you to join us for an Information Session on October 29th\, 2024at 1:00pm CT. Learn what it means to be part of a culture of collaboration and accountability\, where you are empowered to choose your ownpath. Fill out the below registration form to receive your confirmation email and the virtual session link. For more events\, please click here.
UID:127947-21859963@events.umich.edu
URL:https://events.umich.edu/event/127947
CLASS:PUBLIC
STATUS:CONFIRMED
CATEGORIES:
LOCATION:
CONTACT:
END:VEVENT
BEGIN:VEVENT
DTSTAMP:20241113T003136
DTSTART;TZID=America/Detroit:20241029T130000
DTEND;TZID=America/Detroit:20241029T140000
SUMMARY:Careers / Jobs:Resume Lab
DESCRIPTION:*RSVP required to attend. Click \"Join Event\" here: https://app.joinhandshake.com/edu/events/1610234Just getting started building a resume? Have a draft but not sure how to make it better? Wantto learn about resources available to revise your resume? Wherever you’re at Resume Lab is a great next step for you. Get real-time\, personalized support in a small group setting by checking out the Resume Lab. We will discuss and educate you on…- Design and format- Writing a great bullet point- Targeting your resume for specific internships/jobs If you're a Graduate Student or Recent Grad\, please make a 1:1 appointment instead of attending the Lab because this event is designed for undergraduates. Note: This event's information is shown in Handshake as well as on the Happening @ Michigan calendar so that it will be seen by a larger number of U-M Students.
UID:126629-21857450@events.umich.edu
URL:https://events.umich.edu/event/126629
CLASS:PUBLIC
STATUS:CONFIRMED
CATEGORIES:
LOCATION:
CONTACT:
END:VEVENT
END:VCALENDAR