BEGIN:VCALENDAR
VERSION:2.0
PRODID:-//UM//UM*Events//EN
CALSCALE:GREGORIAN
BEGIN:VTIMEZONE
TZID:America/Detroit
TZURL:http://tzurl.org/zoneinfo/America/Detroit
X-LIC-LOCATION:America/Detroit
BEGIN:DAYLIGHT
TZOFFSETFROM:-0500
TZOFFSETTO:-0400
TZNAME:EDT
DTSTART:20070311T020000
RRULE:FREQ=YEARLY;BYMONTH=3;BYDAY=2SU
END:DAYLIGHT
BEGIN:STANDARD
TZOFFSETFROM:-0400
TZOFFSETTO:-0500
TZNAME:EST
DTSTART:20071104T020000
RRULE:FREQ=YEARLY;BYMONTH=11;BYDAY=1SU
END:STANDARD
END:VTIMEZONE
BEGIN:VEVENT
DTSTAMP:20241016T135327
DTSTART;TZID=America/Detroit:20241029T130000
DTEND;TZID=America/Detroit:20241029T150000
SUMMARY:Other:Student Feedback Opportunities Regarding Sexual and Gender-Based Misconduct
DESCRIPTION:Title IX Coordinator and ECRT Director of Gender Equity Elizabeth Seney is hosting public student drop-in meetings to hear from students. The meetings will involve direct engagement and allow students to share their ideas\, suggestions\, opinions\, or questions directly with the Title IX Coordinator. \n\nThe sessions are open to all students and registration is not required in order to attend. Students planning to attend are\, however\, encouraged to RSVP via the linked Google form\, for planning purposes only.\n\nStudents may attend even if they have not completed the accompanying Google form to RSVP. \n\nECRT and the Title IX Office are committed to ensuring our events are accessible to you. If you need accommodations to participate\, or for any other questions\, please contact ecrtoffice@umich.edu as soon as possible to ensure ample time to process your request.
UID:125848-21856240@events.umich.edu
URL:https://events.umich.edu/event/125848
CLASS:PUBLIC
STATUS:CONFIRMED
CATEGORIES:Community Service,Undergraduate Students,Sessions,Office Hours,Inclusion,In Person,Graduate Students,Graduate and Professional Students,Free,Diversity Equity and Inclusion,Diversity,Discussion
LOCATION:Duderstadt Center - Room 1180
CONTACT:
END:VEVENT
BEGIN:VEVENT
DTSTAMP:20241113T003212
DTSTART;TZID=America/Detroit:20241029T130000
DTEND;TZID=America/Detroit:20241029T133000
SUMMARY:Careers / Jobs:What is the purpose of strategic networking?
DESCRIPTION:Discover the power of strategic networking! Learn to build influential connections\, advance your career\, and create valuable opportunities.
UID:128325-21860656@events.umich.edu
URL:https://events.umich.edu/event/128325
CLASS:PUBLIC
STATUS:CONFIRMED
CATEGORIES:
LOCATION:
CONTACT:
END:VEVENT
BEGIN:VEVENT
DTSTAMP:20241113T003125
DTSTART;TZID=America/Detroit:20241029T130000
DTEND;TZID=America/Detroit:20241029T134500
SUMMARY:Careers / Jobs:Your Journey Starts Here: GM Financials' Summer Internship Program
DESCRIPTION:Join GM Financial representatives to learn about our organization\, our Sophomore Leadership Program and summer internship opportunities!GM Financial is a workplace where our team members define and shape our culture — an environment that welcomes new ideas\, fosters integrity\, and creates a sense of community and belonging.Click here to learn more and apply- https://careers.gmfinancial.com/early-careers
UID:124805-21853835@events.umich.edu
URL:https://events.umich.edu/event/124805
CLASS:PUBLIC
STATUS:CONFIRMED
CATEGORIES:
LOCATION:
CONTACT:
END:VEVENT
END:VCALENDAR