BEGIN:VCALENDAR
VERSION:2.0
PRODID:-//UM//UM*Events//EN
CALSCALE:GREGORIAN
BEGIN:VTIMEZONE
TZID:America/Detroit
TZURL:http://tzurl.org/zoneinfo/America/Detroit
X-LIC-LOCATION:America/Detroit
BEGIN:DAYLIGHT
TZOFFSETFROM:-0500
TZOFFSETTO:-0400
TZNAME:EDT
DTSTART:20070311T020000
RRULE:FREQ=YEARLY;BYMONTH=3;BYDAY=2SU
END:DAYLIGHT
BEGIN:STANDARD
TZOFFSETFROM:-0400
TZOFFSETTO:-0500
TZNAME:EST
DTSTART:20071104T020000
RRULE:FREQ=YEARLY;BYMONTH=11;BYDAY=1SU
END:STANDARD
END:VTIMEZONE
BEGIN:VEVENT
DTSTAMP:20230914T090314
DTSTART;TZID=America/Detroit:20240414T193000
SUMMARY:Performance:Cheryl Wheeler
DESCRIPTION:\"Strong poetry\, complex melodies\, clever wit.\"—Sing Out!\n \nIt has always seemed as if there were two Cheryl Wheelers\, with fans of the New England songwriter relishing watching the two tussle for control of the mic. There is poet Cheryl\, writer of some of the prettiest\, most alluring and intelligent ballads on the modern folk scene. And there is her evil twin\, comic Cheryl\, a militant trend defier and savagely funny social critic. The result is a series of delightful contrasts\, for really Cheryl Wheeler is a woman of many musical personalities—heart-wrenching romantic balladeer\, marvelous observational humorist\, poet of ordinary New England scenes and people\, committed activist\, irascible grump. Cheryl’s special guest tonight is her frequent partner in crime\, New York songwriter Kenny White.\n\nPlease visit https://mutotix.umich.edu/4376/4377 for more detail.
UID:112075-21828403@events.umich.edu
URL:https://events.umich.edu/event/112075
CLASS:PUBLIC
STATUS:CONFIRMED
CATEGORIES:Ark,Mutotix
LOCATION:ARK Reserved
CONTACT:
END:VEVENT
BEGIN:VEVENT
DTSTAMP:20240415T180010
DTSTART;TZID=America/Detroit:20240415T000000
DTEND;TZID=America/Detroit:20240415T235959
SUMMARY:Other:2024 NCTA Nationals
DESCRIPTION:Come compete with us at the NCTA National Championships!
UID:119972-21843882@events.umich.edu
URL:https://events.umich.edu/event/119972
CLASS:PUBLIC
STATUS:CONFIRMED
CATEGORIES:
LOCATION:UC Berkley
CONTACT:
END:VEVENT
BEGIN:VEVENT
DTSTAMP:20240415T120011
DTSTART;TZID=America/Detroit:20240415T000000
DTEND;TZID=America/Detroit:20240415T235959
SUMMARY:Other:Azalea Bowl
DESCRIPTION:Regatta
UID:121008-21845678@events.umich.edu
URL:https://events.umich.edu/event/121008
CLASS:PUBLIC
STATUS:CONFIRMED
CATEGORIES:
LOCATION:NC State 
CONTACT:
END:VEVENT
END:VCALENDAR