BEGIN:VCALENDAR
VERSION:2.0
PRODID:-//UM//UM*Events//EN
CALSCALE:GREGORIAN
BEGIN:VTIMEZONE
TZID:America/Detroit
TZURL:http://tzurl.org/zoneinfo/America/Detroit
X-LIC-LOCATION:America/Detroit
BEGIN:DAYLIGHT
TZOFFSETFROM:-0500
TZOFFSETTO:-0400
TZNAME:EDT
DTSTART:20070311T020000
RRULE:FREQ=YEARLY;BYMONTH=3;BYDAY=2SU
END:DAYLIGHT
BEGIN:STANDARD
TZOFFSETFROM:-0400
TZOFFSETTO:-0500
TZNAME:EST
DTSTART:20071104T020000
RRULE:FREQ=YEARLY;BYMONTH=11;BYDAY=1SU
END:STANDARD
END:VTIMEZONE
BEGIN:VEVENT
DTSTAMP:20240904T181938
DTSTART;TZID=America/Detroit:20241029T132000
DTEND;TZID=America/Detroit:20241029T135000
SUMMARY:Performance:Eva Albalghiti\, carillon
DESCRIPTION:Graduate student Eva Albalghiti performs on the Ann & Robert H. Lurie Carillon\, an instrument of 60 bells with the lowest bell (bourdon) weighing 6 tons.\n\nThirty-minute recitals are performed on the Lurie Carillon every weekday that classes are in session. During these recitals\, visitors may take the elevator to level 2 to view the largest bells\, or to level 3 to see the carillonist performing. (Visitors subject to acrophobia are recommended to visit level 2 only.) An optional spiral stairway between levels 2 and 3 allows for up-close views of some of the largest bells.
UID:125741-21855687@events.umich.edu
URL:https://events.umich.edu/event/125741
CLASS:PUBLIC
STATUS:CONFIRMED
CATEGORIES:Free,Music,North Campus,Talk
LOCATION:Lurie Ann & Robert H. Tower
CONTACT:
END:VEVENT
BEGIN:VEVENT
DTSTAMP:20240829T142112
DTSTART;TZID=America/Detroit:20241029T140000
DTEND;TZID=America/Detroit:20241029T150000
SUMMARY:Recreational / Games:Schokoladenstunde
DESCRIPTION:German Lecturer\, Silvia Grzeskowiak (sgrzesko@umich.edu)\, brings German chocolate to snack on and games to play (e.g. Tabu)\, all while chatting in German.
UID:125319-21854707@events.umich.edu
URL:https://events.umich.edu/event/125319
CLASS:PUBLIC
STATUS:CONFIRMED
CATEGORIES:Games,German,German Studies,Germanic Languages And Literatures
LOCATION:Modern Languages Building - 3110
CONTACT:
END:VEVENT
BEGIN:VEVENT
DTSTAMP:20241113T003122
DTSTART;TZID=America/Detroit:20241029T140000
DTEND;TZID=America/Detroit:20241029T150000
SUMMARY:Careers / Jobs:USDA/FSIS Veterinary Career Info Session (Current & Aspiring Veterinary Students)
DESCRIPTION:Join Veterinary Recruiting and Outreach Coordinator\, Dr. Sonya Eden\, to learn why USDA/Food Safety and Inspection Service is the #1 employer of Federal veterinarians. Hear how YOU can have a meaningful career as part of a vital public health mission in a great place to work with excellent career path opportunities. Learn more about our scholarships and student and professional career pathways from our Student Programs Manager\, Kyesha Lewis. Get tips on how to apply to our current or future opportunities\, discover our comprehensive benefits package and learn more about our recruitmentand retention incentives. Join us for a great career event!You must pre-register before 10/24/2024 to receive the link to the event. Questions? Contact us at FSISStudentJobs@usda.gov .
UID:127022-21858309@events.umich.edu
URL:https://events.umich.edu/event/127022
CLASS:PUBLIC
STATUS:CONFIRMED
CATEGORIES:
LOCATION:
CONTACT:
END:VEVENT
END:VCALENDAR