BEGIN:VCALENDAR
VERSION:2.0
PRODID:-//UM//UM*Events//EN
CALSCALE:GREGORIAN
BEGIN:VTIMEZONE
TZID:America/Detroit
TZURL:http://tzurl.org/zoneinfo/America/Detroit
X-LIC-LOCATION:America/Detroit
BEGIN:DAYLIGHT
TZOFFSETFROM:-0500
TZOFFSETTO:-0400
TZNAME:EDT
DTSTART:20070311T020000
RRULE:FREQ=YEARLY;BYMONTH=3;BYDAY=2SU
END:DAYLIGHT
BEGIN:STANDARD
TZOFFSETFROM:-0400
TZOFFSETTO:-0500
TZNAME:EST
DTSTART:20071104T020000
RRULE:FREQ=YEARLY;BYMONTH=11;BYDAY=1SU
END:STANDARD
END:VTIMEZONE
BEGIN:VEVENT
DTSTAMP:20241008T160011
DTSTART;TZID=America/Detroit:20241029T150000
DTEND;TZID=America/Detroit:20241029T180000
SUMMARY:Presentation:ASC Fall 2024 UMAPS Colloquium Research Series
DESCRIPTION:Fall 2024 UMAPS Colloquium Research Series\n1010 Weiser Hall\, 10th Floor (3:00-6:00 PM)\n \n*[Friday\, October 18] — Concussion Management\, Green Infrastructure and  Aquatic Macrophytes in Cyanobacteria Inhibition*\n\nMOOKETSI MOLEFI. “Adaptation and Evaluation of a Multisectoral Concussion Management Framework in Diverse African Setting”\n\nAYISHA BAFFOE-ASHUN. “Socio-Spatial Dynamics of Green Infrastructure in Ghanaian Cities Through Precolonial\, Colonial\, Contemporary Epochs: Based on Case Studies in Accra and Kumasi”\n\nATILOLA ABIDEMI-IROMINI. “Allelopathic Potential of Aquatic Macrophytes in Cyanobacteria Inhibition and Ammonium Uptake for Freshwater Purification”\n\n\n*[Tuesday\, October 29] — Liminal Beings\, Machine Learning\, Health\, and Women’s Electoral Participation*\n\nOLUWANIFEMI BAMIDELE-NELLY. “Liminal Identities: Biracialism and Female Body Image in Selected Nigerian Novels”\n\nRICHARD NSENGIYUMVA. “Prevalence & Determinants of Preconception Health and Behavioral Risks Amidst Engaged Couples in Rwanda”\n\nFAITH BENSON. “Identifying Predictors of Poor Early Childhood Development in Low-Resource Settings of Kenya Using Machine Learning”\n\nMARTIN OSWALD. “Why Do Women Vote Less\, and What Influences Their [Non]-Voting? An Empirical Examination of Socio-Demographic Predictors of Women’s Electoral Participation in Tanzania’s 2010-2020 Elections”\n\n\n*[Friday\, November 01] — Religiosity\, Subalterns\, and Mathematical Learning Outcomes*\n\nANATOLI LWASSAMPIJJA. “Faith and Nation Building at Crossroads: The Religio-political Significance of the 1969 Pope Paul VI’s Visit to Uganda”\n\nSTELLA ANTWIWAA. “Can the Subaltern Be Heard? Women and Rhetoric in Selected Euripidean and Ghanaian Plays” \n\nEMMANUEL IYAMUREMYE. “Boosting Student Learning Motivation in Mathematics”\n\nTo attend\, register at https://forms.gle/qEDEuPujMZwsrbbW8
UID:127548-21859306@events.umich.edu
URL:https://events.umich.edu/event/127548
CLASS:PUBLIC
STATUS:CONFIRMED
CATEGORIES:African Studies,African Studies Center,Umaps Colloquium Series
LOCATION:Weiser Hall - Suite 1010
CONTACT:
END:VEVENT
BEGIN:VEVENT
DTSTAMP:20241113T003141
DTSTART;TZID=America/Detroit:20241029T150000
DTEND;TZID=America/Detroit:20241029T160000
SUMMARY:Careers / Jobs:Consulting Case Lab
DESCRIPTION:Join our Consulting Case Lab to kickstart your journey intothe consulting world. This introductory workshop is tailored to familiarize you with the 'consulting style' case interview format. You'll gain a solid understanding of what to expect\, how to approach cases\, and get hands-on practice to begin refining your skills. This is the perfect opportunity to ask questions and build a strong foundation for your future case prep.
UID:127073-21858360@events.umich.edu
URL:https://events.umich.edu/event/127073
CLASS:PUBLIC
STATUS:CONFIRMED
CATEGORIES:
LOCATION:
CONTACT:
END:VEVENT
BEGIN:VEVENT
DTSTAMP:20241113T003135
DTSTART;TZID=America/Detroit:20241029T150000
DTEND;TZID=America/Detroit:20241029T160000
SUMMARY:Careers / Jobs:From Academia to Consulting
DESCRIPTION:Curious about the journey from academia to consulting? Don’t miss our exclusive interview with a PhD student who made the leap! Discover why they chose consulting over a traditional academic path and howtheir research background gave them a unique edge in the industry. This candid conversation will explore the challenges\, opportunities\, and insights gained from transitioning from the world of research to the fast-pacedworld of consulting. Whether you're considering a similar path or just want to learn more\, join us for an inspiring and informative discussion!
UID:126486-21857190@events.umich.edu
URL:https://events.umich.edu/event/126486
CLASS:PUBLIC
STATUS:CONFIRMED
CATEGORIES:
LOCATION:
CONTACT:
END:VEVENT
END:VCALENDAR