BEGIN:VCALENDAR
VERSION:2.0
PRODID:-//UM//UM*Events//EN
CALSCALE:GREGORIAN
BEGIN:VTIMEZONE
TZID:America/Detroit
TZURL:http://tzurl.org/zoneinfo/America/Detroit
X-LIC-LOCATION:America/Detroit
BEGIN:DAYLIGHT
TZOFFSETFROM:-0500
TZOFFSETTO:-0400
TZNAME:EDT
DTSTART:20070311T020000
RRULE:FREQ=YEARLY;BYMONTH=3;BYDAY=2SU
END:DAYLIGHT
BEGIN:STANDARD
TZOFFSETFROM:-0400
TZOFFSETTO:-0500
TZNAME:EST
DTSTART:20071104T020000
RRULE:FREQ=YEARLY;BYMONTH=11;BYDAY=1SU
END:STANDARD
END:VTIMEZONE
BEGIN:VEVENT
DTSTAMP:20241028T045835
DTSTART;TZID=America/Detroit:20241029T150000
DTEND;TZID=America/Detroit:20241029T160000
SUMMARY:Workshop / Seminar:Student CA Seminar: An introduction to group cohomology
DESCRIPTION:Abstract: The invention of group cohomology in the 1940s has provided a powerful link between algebra and topology. In this talk we’ll introduce the topological motivation for group cohomology and give both the algebraic and topological definitions. We’ll compute simple examples using both algebraic and topological tools\, explain finiteness conditions\, and introduce some fundamental questions that remain open.
UID:128356-21860721@events.umich.edu
URL:https://events.umich.edu/event/128356
CLASS:PUBLIC
STATUS:CONFIRMED
CATEGORIES:Mathematics
LOCATION:East Hall - 3088
CONTACT:
END:VEVENT
BEGIN:VEVENT
DTSTAMP:20240802T181525
DTSTART;TZID=America/Detroit:20241029T150000
DTEND;TZID=America/Detroit:20241029T160000
SUMMARY:Other:Transfer Student Info Session
DESCRIPTION:Join us for an hour long virtual info session for undergraduate students interested in transferring to the University of Michigan Stamps School of Art &amp\; Design from another school or college. The info session will include a presentation and Q&amp\;A with current students and the admissions team.Info session times are Eastern US.\nVisit our Admissions Events page to learn more about additional upcoming events.
UID:123781-21851883@events.umich.edu
URL:https://events.umich.edu/event/123781
CLASS:PUBLIC
STATUS:CONFIRMED
CATEGORIES:Art
LOCATION:Off Campus Location
CONTACT:
END:VEVENT
BEGIN:VEVENT
DTSTAMP:20241021T091347
DTSTART;TZID=America/Detroit:20241029T160000
DTEND;TZID=America/Detroit:20241029T170000
SUMMARY:Workshop / Seminar:CM-AMO Seminar | High-Temperature Elastic Moduli: A Tool for Understanding Chemical Bonding in Thermoelectric Materials
DESCRIPTION:Measurements of elastic moduli are of fundamental value for detecting changes in structure and bonding in solids\, and\, in the context of thermoelectric materials\, are useful for explaining trends in lattice thermal conductivity\, k_L.  However\, experimental elastic constants of functional materials are relatively sparse in the literature\, and temperature-dependent data is even less common.  We aim to address this\, one material system at a time\, using a technique called resonant ultrasound spectroscopy.  In this talk\, I will discuss how compositional changes and phase transformations (e.g.\, order disorder\, martensitic transitions) impact elasticity\, and therefor thermal transport. First\, we show that vacancies in the planar MX honeycomb lattice of AMX Zintls lead to a decrease in sound velocity and a sharp increase in point defect scattering\, thus reducing k_L by nearly 80%.   The second part of the talk will focus on the effects of a supersonic phase transition - fundamentally an order disorder transition - in the layered CuCrX_2 (X = S\, Se\, T).  Lastly\, we explore the (GeSe)_{1−x}−(AgBiSe_2)_x system\, in which alloying transforms the structure from orthorhombic to rhombohedral to cubic rock-salt\, with the latter being the thermodynamically stable at a high temperature across the entire compositional range. We found an anomalous increase in the elastic moduli upon the transition from the rhombohedral to the cubic rock salt structure.  Density functional theory suggests that this stiffening is caused by the tendency of Ge to exhibit strongly expressed lone-pair orbitals\, which switch from fully oriented in the rhombohedral phase to randomly oriented in the cubic phase. Supporting this argument\, decreased Ge content\, and thus weakened lone-pair expression\, leads to a less pronounced stiffening at the phase transition.    These examples underscore the critical role of high-temperature elastic moduli in unraveling the complex interplay between chemical bonding\, structural transformations\, and thermoelectric properties\, offering insight into the design and optimization of new materials.\n\nBio: Alexandra Zevalkink received her B.S. in Materials Science and Engineering from Michigan Technological University in 2008 and her Ph.D. in the same discipline at the California Institute of Technology in 2014.  After completing her Ph.D.\, she pursued postdoctoral research at NASA’s Jet Propulsion Laboratory and at the Max Planck Institute for Chemical Physics of Solids in Dresden\, Germany. She joined the Department of Chemical Engineering and Materials Science at Michigan State University in 2016\, where she is currently an C. Robert and Kathryn M. Weir Endowed Associate Professor.  Her research focus is on the relationship between the atomic structure and bonding in inorganic materials and the resulting elastic\, thermal and electronic properties.  Her group employs a diverse set of tools including in-situ elasticity measurements\, high-pressure and high-temperature X-ray diffraction\, and a suite of single crystal growth and powder metallurgy techniques.  Funding for her group’s research and public outreach has been provided by the National Science Foundation (e.g.\, NSF-CAREER\, NSF-DMREF)\, the Department of Energy (DOE-BES)\, NASA’s Jet Propulsion Laboratory\, and the Ceramic and Glass Industry Foundation.
UID:128097-21860179@events.umich.edu
URL:https://events.umich.edu/event/128097
CLASS:PUBLIC
STATUS:CONFIRMED
CATEGORIES:Physics,Science
LOCATION:West Hall - 340
CONTACT:
END:VEVENT
END:VCALENDAR