BEGIN:VCALENDAR
VERSION:2.0
PRODID:-//UM//UM*Events//EN
CALSCALE:GREGORIAN
BEGIN:VTIMEZONE
TZID:America/Detroit
TZURL:http://tzurl.org/zoneinfo/America/Detroit
X-LIC-LOCATION:America/Detroit
BEGIN:DAYLIGHT
TZOFFSETFROM:-0500
TZOFFSETTO:-0400
TZNAME:EDT
DTSTART:20070311T020000
RRULE:FREQ=YEARLY;BYMONTH=3;BYDAY=2SU
END:DAYLIGHT
BEGIN:STANDARD
TZOFFSETFROM:-0400
TZOFFSETTO:-0500
TZNAME:EST
DTSTART:20071104T020000
RRULE:FREQ=YEARLY;BYMONTH=11;BYDAY=1SU
END:STANDARD
END:VTIMEZONE
BEGIN:VEVENT
DTSTAMP:20241202T164032
DTSTART;TZID=America/Detroit:20250226T090000
DTEND;TZID=America/Detroit:20250226T120000
SUMMARY:Social / Informal Gathering:Welcome Wednesdays with the Alumni Association
DESCRIPTION:The Alumni Association of the University of Michigan hosts Welcome Wednesdays for U-M students most Wednesday mornings throughout the fall and winter semesters. Start your day with free coffee\, tea\, hot chocolate\, and a breakfast snack thanks to Alumni Association members.\n\nStudents can stop by the Alumni Center from 9 a.m. to noon for during the dates listed and make sure to bring your Mcard!
UID:124011-21863647@events.umich.edu
URL:https://events.umich.edu/event/124011
CLASS:PUBLIC
STATUS:CONFIRMED
CATEGORIES:Alumni,Food,Free,Undergraduate Students,Welcome to Michigan,welcome week,welcome week event
LOCATION:Alumni Center
CONTACT:
END:VEVENT
BEGIN:VEVENT
DTSTAMP:20250303T063230
DTSTART;TZID=America/Detroit:20250226T100000
DTEND;TZID=America/Detroit:20250226T104500
SUMMARY:Careers / Jobs:Career Branding with Adobe: How to Stand Out from the Pack
DESCRIPTION:Join Adobe’s University Recruiting team to start your dream job journey today. Hear from Adobe’s team as they share the skills that they are looking for in prospective employees or interns. Then start creating your story with generative AI in Adobe Express&nbsp\;to promote yourself on social media or create a project portfolio for interviews.&nbsp\;Who is this for?All students whose institutions provide free access to Adobe Express: new.express.adobe.com&nbsp\;Why should I attend:Learn how to make simple updates using Adobe Express to your LinkedIn profile\, resume\, or portfolio.Earn Adobe badges that signal to recruiters andhiring managers you have generative AI or social media skills.&nbsp\;Please RSVP here: https://event.adobe.com/careerbrandingwithadobe&nbsp\;
UID:133120-21872409@events.umich.edu
URL:https://events.umich.edu/event/133120
CLASS:PUBLIC
STATUS:CONFIRMED
CATEGORIES:
LOCATION:
CONTACT:
END:VEVENT
BEGIN:VEVENT
DTSTAMP:20250224T160620
DTSTART;TZID=America/Detroit:20250226T100000
DTEND;TZID=America/Detroit:20250226T113000
SUMMARY:Exhibition:Connected or Controlled?: Exploring the #unfiltered self in the age of social media
DESCRIPTION:We are a group of students at the University of Michigan enrolled in Digital/Writing 200. We were prompted with the task of tracking our social media usage for roughly six weeks. After reflecting on our social media logs\, each of us conceptualized an art piece and artist statement that was the result of our deep thinking about our social media usage. We are all so unique and consume media in different ways\, and this exhibition allows us to see the ways our peers feel connected or controlled by social media.\n\nThrough this exhibition\, we invite you to reflect on your own relationship with social media. After engaging with the artwork and considering these questions\, we hope you gain a deeper understanding of the ways social media shapes the lives of Gen-Z students—and its impact on your own daily life.
UID:133104-21872392@events.umich.edu
URL:https://events.umich.edu/event/133104
CLASS:PUBLIC
STATUS:CONFIRMED
CATEGORIES:Art,Multidisciplinary Design,Undergraduate,Visual Arts,Writing
LOCATION:North Quad - Space 2435
CONTACT:
END:VEVENT
END:VCALENDAR