BEGIN:VCALENDAR
VERSION:2.0
PRODID:-//UM//UM*Events//EN
CALSCALE:GREGORIAN
BEGIN:VTIMEZONE
TZID:America/Detroit
TZURL:http://tzurl.org/zoneinfo/America/Detroit
X-LIC-LOCATION:America/Detroit
BEGIN:DAYLIGHT
TZOFFSETFROM:-0500
TZOFFSETTO:-0400
TZNAME:EDT
DTSTART:20070311T020000
RRULE:FREQ=YEARLY;BYMONTH=3;BYDAY=2SU
END:DAYLIGHT
BEGIN:STANDARD
TZOFFSETFROM:-0400
TZOFFSETTO:-0500
TZNAME:EST
DTSTART:20071104T020000
RRULE:FREQ=YEARLY;BYMONTH=11;BYDAY=1SU
END:STANDARD
END:VTIMEZONE
BEGIN:VEVENT
DTSTAMP:20241015T210609
DTSTART;TZID=America/Detroit:20241029T160000
DTEND;TZID=America/Detroit:20241029T170000
SUMMARY:Workshop / Seminar:Colloquium Seminar: From Coxeter-Conway friezes to cluster algebras
DESCRIPTION:Since their invention by Fomin-Zelevinsky in 2002\, cluster algebras have shown up in an ever growing array of subjects in mathematics (and in physics). In this talk\, we will approach their theory starting from elementary examples. More precisely\, we will see how the remarkable integrality properties of the Coxeter-Conway friezes and the Somos sequence find a beautiful unification and generalization in Fomin-Zelevinsky's definition of cluster variables and their Laurent phenomenon theorem. Motivated by the periodicity of Coxeter-Conway friezes\, we will conclude with a general periodicity theorem\, whose proof is based on the interaction between discrete dynamical systems and quiver representations through the combinatorial framework of cluster algebras.
UID:122584-21849415@events.umich.edu
URL:https://events.umich.edu/event/122584
CLASS:PUBLIC
STATUS:CONFIRMED
CATEGORIES:Mathematics
LOCATION:
CONTACT:
END:VEVENT
BEGIN:VEVENT
DTSTAMP:20241113T003137
DTSTART;TZID=America/Detroit:20241029T160000
DTEND;TZID=America/Detroit:20241029T170000
SUMMARY:Careers / Jobs:Internship Lab
DESCRIPTION:*RSVP required to attend. Click \"Join Event\" here: https://app.joinhandshake.com/edu/events/1610289Are you ready to start searching for a great internship? Do you have a few ideas\, but you’re not sure where to get started? Let's talk about search strategy!! Get real-time\, personalized support by checking out the in person Internship Lab. You’ll be guided by one of our Career Coaches who has designed this experience to provide you strategies\, tools\, and motivation to get on the right track with searching for internships. Chat with folks from the University Career Center to explore Handshake\, the University Career Alumni Network (UCAN) and to learn about other tools you can use to build a great job/internship search strategy. **Ifyou're not sure what you're interested in\, consider making an \"ExploringMajor/Career Option\" appointment to get started clarifying your interestswith a career coach in a 1-on-1 setting. Recent Grads: If you are an alumni\, you will not be able to access the link due the University’s policy of discontinuing alumni Zoom accounts 30 days after graduation. Please contact careercenter@umich.edu with the subject line “Recent Grad Help” to receive either a recording of the session or to be set up with a 1:1. Include the name of the workshop/event in your email.
UID:126634-21857455@events.umich.edu
URL:https://events.umich.edu/event/126634
CLASS:PUBLIC
STATUS:CONFIRMED
CATEGORIES:
LOCATION:
CONTACT:
END:VEVENT
BEGIN:VEVENT
DTSTAMP:20240917T163245
DTSTART;TZID=America/Detroit:20241029T160000
DTEND;TZID=America/Detroit:20241029T180000
SUMMARY:Social / Informal Gathering:Mario Gaming Night @ The DSI
DESCRIPTION:Mario Gaming Night is back for Fall 2024! Join us for our popular Mario Gaming Night at the DSI Office\, located in Mason Hall at room G325!\n\nREGISTRATION REQUIRED: https://myumi.ch/mZeQx\n\nWe'll have several of our Nintendo Switch stations set up for multiplayer gaming\, along with pizza\, snacks\, and drinks for you to enjoy! Our current Mario games in rotation are Super Smash Bros. Ultimate and Mario Kart 8 Deluxe.\n\nQuestions or accommodations? Email Sarah Torsch at dsi-studentservices@umich.edu.
UID:126572-21857348@events.umich.edu
URL:https://events.umich.edu/event/126572
CLASS:PUBLIC
STATUS:CONFIRMED
CATEGORIES:Digital Studies,Digital Studies Institute
LOCATION:Mason Hall - G333/G325
CONTACT:
END:VEVENT
END:VCALENDAR