BEGIN:VCALENDAR
VERSION:2.0
PRODID:-//UM//UM*Events//EN
CALSCALE:GREGORIAN
BEGIN:VTIMEZONE
TZID:America/Detroit
TZURL:http://tzurl.org/zoneinfo/America/Detroit
X-LIC-LOCATION:America/Detroit
BEGIN:DAYLIGHT
TZOFFSETFROM:-0500
TZOFFSETTO:-0400
TZNAME:EDT
DTSTART:20070311T020000
RRULE:FREQ=YEARLY;BYMONTH=3;BYDAY=2SU
END:DAYLIGHT
BEGIN:STANDARD
TZOFFSETFROM:-0400
TZOFFSETTO:-0500
TZNAME:EST
DTSTART:20071104T020000
RRULE:FREQ=YEARLY;BYMONTH=11;BYDAY=1SU
END:STANDARD
END:VTIMEZONE
BEGIN:VEVENT
DTSTAMP:20250110T170530
DTSTART;TZID=America/Detroit:20250226T100000
DTEND;TZID=America/Detroit:20250226T200000
SUMMARY:Other:Leaves Under the Lens
DESCRIPTION:The leaf surface is a dynamic landscape where tiny\, specialized structures help plants interact with the world around them. Let’s bring this world into view! Join us for an exhibit that highlights the complex and often beautiful anatomy of leaves from the Matthaei collection. Plants throughout the conservatory will be paired with microscope photographs and micro-CT scans that illustrate the otherwise invisible structures that protect leaves from chewing insects\, absorb (or repel!) water\, and even recruit “bodyguards”. You won’t look at leaves the same way again! \n\nThis project is a collaboration between MBGNA and the Weber and Vasconcelos labs in the Department of Ecology and Evolutionary Biology\, led by PhD student Rosemary Glos.
UID:130943-21867452@events.umich.edu
URL:https://events.umich.edu/event/130943
CLASS:PUBLIC
STATUS:CONFIRMED
CATEGORIES:science,In Person,Free,Family,Biology,eeb
LOCATION:Matthaei Botanical Gardens
CONTACT:
END:VEVENT
BEGIN:VEVENT
DTSTAMP:20241220T101411
DTSTART;TZID=America/Detroit:20250226T100000
DTEND;TZID=America/Detroit:20250226T120000
SUMMARY:Workshop / Seminar:Neurodiversity in the Workplace: Part 2
DESCRIPTION:Neurodiversity is the new hot topic in the realm of disability inclusion and accessibility—and with good reason. A significant percentage of people are now recognized as having neurotypes that are not well supported by societal norms and our collective understanding of how to communicate across and support neurodiversity is still developing. Fortunately researchers\, educators\, and advocates who identify as neurodivergent are contributing to a growing body of best practices. \n\nJoin the LSA Faculty & Staff Disability Navigators in this 2-part workshop series to learn about neurodiversity and how we can all start creating more neuroinclusive workplaces. Attendees will need to register for and attend both Part 1 and Part 2 to gain a comprehensive understanding of this topic.\n\nIn Part 2\, participants will:\n- Learn about communication best practices between neurotypes.\n- Explore practical examples of how to foster neuroinclusive workplaces\, including workspace design\, meeting facilitation\, and supervision strategies.\n- Exchange advice with fellow participants and generate a plan to start applying neuroinclusive practices right away.\n- Obtain a reference guide to implementing best practices in your workplace.\n\nAudience: This is a beginner-level workshop open to any LSA employee\, including our student employees. LSA employees receive priority access\, so while external guests are welcome to register they may be waitlisted and allocated spots as space allows.\n\nFormat: This workshop will be conducted virtually on Zoom. Camera use will be optional. Auto-captioning will be enabled and slides will be shared during and following the workshop. Discussion will be facilitated via the chat function and interested participants will be invited to unmute themselves. There will be time for questions and participants will have the option to submit anonymously via the Q&A function. This session will not be recorded.\n\nAccommodations: The LSA DEI Office greatly values inclusion and access for all. We are pleased to provide reasonable accommodations to enable your full participation in this workshop. Please contact LSA.Disability.Navigators@umich.edu if you would like to request disability accommodations or have questions related to access needs.
UID:130236-21865623@events.umich.edu
URL:https://events.umich.edu/event/130236
CLASS:PUBLIC
STATUS:CONFIRMED
CATEGORIES:Disability,Workshop,Neurodiversity,Inclusion,Accessibility
LOCATION:Off Campus Location
CONTACT:
END:VEVENT
BEGIN:VEVENT
DTSTAMP:20250131T134438
DTSTART;TZID=America/Detroit:20250226T100000
DTEND;TZID=America/Detroit:20250226T110000
SUMMARY:Workshop / Seminar:Student Number Theory Reading Group: Tasho's notes
DESCRIPTION:We'll have a initial talk on Tasho's Arizona Winter School notes.
UID:132159-21870455@events.umich.edu
URL:https://events.umich.edu/event/132159
CLASS:PUBLIC
STATUS:CONFIRMED
CATEGORIES:Mathematics
LOCATION:East Hall - B745
CONTACT:
END:VEVENT
END:VCALENDAR