BEGIN:VCALENDAR
VERSION:2.0
PRODID:-//UM//UM*Events//EN
CALSCALE:GREGORIAN
BEGIN:VTIMEZONE
TZID:America/Detroit
TZURL:http://tzurl.org/zoneinfo/America/Detroit
X-LIC-LOCATION:America/Detroit
BEGIN:DAYLIGHT
TZOFFSETFROM:-0500
TZOFFSETTO:-0400
TZNAME:EDT
DTSTART:20070311T020000
RRULE:FREQ=YEARLY;BYMONTH=3;BYDAY=2SU
END:DAYLIGHT
BEGIN:STANDARD
TZOFFSETFROM:-0400
TZOFFSETTO:-0500
TZNAME:EST
DTSTART:20071104T020000
RRULE:FREQ=YEARLY;BYMONTH=11;BYDAY=1SU
END:STANDARD
END:VTIMEZONE
BEGIN:VEVENT
DTSTAMP:20241029T152040
DTSTART;TZID=America/Detroit:20241029T160000
DTEND;TZID=America/Detroit:20241029T180000
SUMMARY:Workshop / Seminar:Mario Gaming Night @ the DSI: Spooky Season Edition
DESCRIPTION:
UID:126494-21857196@events.umich.edu
URL:https://events.umich.edu/event/126494
CLASS:PUBLIC
STATUS:CONFIRMED
CATEGORIES:Sessions
LOCATION:Mason Hall, G333
CONTACT:
END:VEVENT
BEGIN:VEVENT
DTSTAMP:20240917T154055
DTSTART;TZID=America/Detroit:20241029T160000
DTEND;TZID=America/Detroit:20241029T173000
SUMMARY:Lecture / Discussion:Nam Center Colloquium Series | Britain and the United Nations Temporary Commission on Korea\, 1947-1948
DESCRIPTION:During the Second World War\, the British government participated in the initial decisions associated with the postwar disposition of colonial Korea. After 1945 UK officials were active in shaping postwar Korea’s transformation from semi-colonial status under the American occupation to independence as a state closely tied to American security and economic policies in Northeast Asia. This presentation will explore the ideas and diplomacy of British diplomats\, their perceptions about the US occupation\, and policies towards elections held in southern Korea in 1948 and overseen by the UN Temporary Commission on Korea.\n   \n   Steven Lee is Associate Professor of History and former chair of the international relations program at the University of British Columbia. His publications include Outposts of Empire: Korea\, Vietnam and the Origins of the Cold War\, 1949-1954 (1996)\, The Korean War (2001)\, and Transformations in Twentieth Century Korea\, co-edited with Yunshik Chang (2006). He has coedited a volume of The Journal of American-East Asian Relations on the theme of the two Koreas in the 1950s (2017)\, and has written articles on the history of Korean refugees\, Canada-Korean Relations\, and the role of the UN in Korea.\n\nIf there is anything we can do to make this event accessible to you\, please contact us at ncks.info@umich.edu. Please be aware that advance notice is necessary as some accommodations may require more time for the university to arrange.
UID:126584-21857370@events.umich.edu
URL:https://events.umich.edu/event/126584
CLASS:PUBLIC
STATUS:CONFIRMED
CATEGORIES:History,Korea,Korean Studies
LOCATION:Weiser Hall - Room 555
CONTACT:
END:VEVENT
BEGIN:VEVENT
DTSTAMP:20241028T153244
DTSTART;TZID=America/Detroit:20241029T160000
DTEND;TZID=America/Detroit:20241029T173000
SUMMARY:Workshop / Seminar:Using Google for Academic Research
DESCRIPTION:Did you know that Google is by far the most popular search engine but most people are not aware of all the search features Google offers? This workshop will improve your understanding of different search features and make you a much faster and effective researcher. Come learn about how to use Google and Google scholar for academic research\, connect Google Scholar with the U-M Library\, and fully utilize Google Images.
UID:128427-21860805@events.umich.edu
URL:https://events.umich.edu/event/128427
CLASS:PUBLIC
STATUS:CONFIRMED
CATEGORIES:Undergraduate,Undergraduate Students,Workshop
LOCATION:Off Campus Location
CONTACT:
END:VEVENT
END:VCALENDAR