BEGIN:VCALENDAR
VERSION:2.0
PRODID:-//UM//UM*Events//EN
CALSCALE:GREGORIAN
BEGIN:VTIMEZONE
TZID:America/Detroit
TZURL:http://tzurl.org/zoneinfo/America/Detroit
X-LIC-LOCATION:America/Detroit
BEGIN:DAYLIGHT
TZOFFSETFROM:-0500
TZOFFSETTO:-0400
TZNAME:EDT
DTSTART:20070311T020000
RRULE:FREQ=YEARLY;BYMONTH=3;BYDAY=2SU
END:DAYLIGHT
BEGIN:STANDARD
TZOFFSETFROM:-0400
TZOFFSETTO:-0500
TZNAME:EST
DTSTART:20071104T020000
RRULE:FREQ=YEARLY;BYMONTH=11;BYDAY=1SU
END:STANDARD
END:VTIMEZONE
BEGIN:VEVENT
DTSTAMP:20240821T114136
DTSTART;TZID=America/Detroit:20241029T170000
DTEND;TZID=America/Detroit:20241029T180000
SUMMARY:Other:CGIS: Study Abroad in Rome\, Italy - 2025
DESCRIPTION:Join Professor Joshua Rabinowitz and CGIS Advisor\, Joy Richardson\, to learn more about the CGIS: Global Course Connections (GCC) in Rome\, Italy - Modern Italy and Political Psychology program. This GCC program offers the unique opportunity to pair your on-campus winter studies with an exciting hands-on 3-week global experience taught by Joshua Rabinowitz in the summer.\n\nUsing Rome\, Italy\, as an experiential laboratory\, this course connection will tie the theories and findings of social and political psychology to the modern Italian context. You will see through museum visits\, architectural tours\, artistic and cultural experiences\, and class discussions how social identity\, collective action\, and political ideology (including fascism and contemporary populism) have resonated through the last 200 years of Italian history.
UID:124674-21853596@events.umich.edu
URL:https://events.umich.edu/event/124674
CLASS:PUBLIC
STATUS:CONFIRMED
CATEGORIES:study abroad,Italian Studies,Politics,Psychology,Europe,Travel,Undergraduate,Undergraduate Students,International Education,Faculty,global,global engagement,global opportunities,Intercultural
LOCATION:Off Campus Location
CONTACT:
END:VEVENT
BEGIN:VEVENT
DTSTAMP:20241113T003143
DTSTART;TZID=America/Detroit:20241029T170000
DTEND;TZID=America/Detroit:20241029T180000
SUMMARY:Careers / Jobs:Evercore Equity Capital Markets Virtual Sophomore Open House
DESCRIPTION:Evercore Equity Capital Markets Virtual Sophomore Open HouseRegion  AmericasGroup  Investment BankingEvent Description  Come learn more about Evercore's Equity Capital Markets Team and our 2026 Summer Analyst Program! You'll also have a chance to network withteam members during the session. This is an invite-only event. Selected attendees will receive a confirmation email with relevant details\,such as the Zoom link\, the week of the event.Please find the event timing listed below:October 29: 5:00 - 6:00 PM ET Event address / venue details  Event details\, includingthe Zoom link\, will be provided to invited candidates the week of the event.
UID:127227-21858674@events.umich.edu
URL:https://events.umich.edu/event/127227
CLASS:PUBLIC
STATUS:CONFIRMED
CATEGORIES:
LOCATION:
CONTACT:
END:VEVENT
BEGIN:VEVENT
DTSTAMP:20241113T003146
DTSTART;TZID=America/Detroit:20241029T170000
DTEND;TZID=America/Detroit:20241029T180000
SUMMARY:Careers / Jobs:Exploring AI in Recruitment: Empowering Students with Insights Virtual Event
DESCRIPTION:You're invited to attend Gallagher's Exploring AI in Recruitment: Empowering Students with Insights Virtual EventDate &amp\; Time: October 29th 5:00pm - 6:00pmEDTDescription: AI is leveraged by employers and candidates alike. Join us the unravel the mysteries behind AI-powered recruitment and learn practical insights to leverage AI tools to stand out intthe competitive hiring process.REGISTER TODAY to secure your spot!&nbsp\;We look forward to meeting you!&nbsp\;&nbsp\;Meeting Link&nbsp\;
UID:127603-21859387@events.umich.edu
URL:https://events.umich.edu/event/127603
CLASS:PUBLIC
STATUS:CONFIRMED
CATEGORIES:
LOCATION:
CONTACT:
END:VEVENT
END:VCALENDAR