BEGIN:VCALENDAR
VERSION:2.0
PRODID:-//UM//UM*Events//EN
CALSCALE:GREGORIAN
BEGIN:VTIMEZONE
TZID:America/Detroit
TZURL:http://tzurl.org/zoneinfo/America/Detroit
X-LIC-LOCATION:America/Detroit
BEGIN:DAYLIGHT
TZOFFSETFROM:-0500
TZOFFSETTO:-0400
TZNAME:EDT
DTSTART:20070311T020000
RRULE:FREQ=YEARLY;BYMONTH=3;BYDAY=2SU
END:DAYLIGHT
BEGIN:STANDARD
TZOFFSETFROM:-0400
TZOFFSETTO:-0500
TZNAME:EST
DTSTART:20071104T020000
RRULE:FREQ=YEARLY;BYMONTH=11;BYDAY=1SU
END:STANDARD
END:VTIMEZONE
BEGIN:VEVENT
DTSTAMP:20240414T180002
DTSTART;TZID=America/Detroit:20240415T000000
DTEND;TZID=America/Detroit:20240415T200000
SUMMARY:Other:Home Race
DESCRIPTION:Home race weekend
UID:115930-21835849@events.umich.edu
URL:https://events.umich.edu/event/115930
CLASS:PUBLIC
STATUS:CONFIRMED
CATEGORIES:
LOCATION:M-City
CONTACT:
END:VEVENT
BEGIN:VEVENT
DTSTAMP:20240501T120006
DTSTART;TZID=America/Detroit:20240415T000000
DTEND;TZID=America/Detroit:20240415T235959
SUMMARY:Social / Informal Gathering:IdeaHub Check-In
DESCRIPTION:Please check-in when visiting the IdeaHub.
UID:120861-21845471@events.umich.edu
URL:https://events.umich.edu/event/120861
CLASS:PUBLIC
STATUS:CONFIRMED
CATEGORIES:
LOCATION:IdeaHub
CONTACT:
END:VEVENT
BEGIN:VEVENT
DTSTAMP:20240414T120012
DTSTART;TZID=America/Detroit:20240415T000000
DTEND;TZID=America/Detroit:20240415T130000
SUMMARY:Other:Knecht Cup
DESCRIPTION:Yummy IRA bids
UID:120988-21845638@events.umich.edu
URL:https://events.umich.edu/event/120988
CLASS:PUBLIC
STATUS:CONFIRMED
CATEGORIES:
LOCATION:Cooper River, Cherry Hill NJ
CONTACT:
END:VEVENT
END:VCALENDAR