BEGIN:VCALENDAR
VERSION:2.0
PRODID:-//UM//UM*Events//EN
CALSCALE:GREGORIAN
BEGIN:VTIMEZONE
TZID:America/Detroit
TZURL:http://tzurl.org/zoneinfo/America/Detroit
X-LIC-LOCATION:America/Detroit
BEGIN:DAYLIGHT
TZOFFSETFROM:-0500
TZOFFSETTO:-0400
TZNAME:EDT
DTSTART:20070311T020000
RRULE:FREQ=YEARLY;BYMONTH=3;BYDAY=2SU
END:DAYLIGHT
BEGIN:STANDARD
TZOFFSETFROM:-0400
TZOFFSETTO:-0500
TZNAME:EST
DTSTART:20071104T020000
RRULE:FREQ=YEARLY;BYMONTH=11;BYDAY=1SU
END:STANDARD
END:VTIMEZONE
BEGIN:VEVENT
DTSTAMP:20241108T081807
DTSTART;TZID=America/Detroit:20241113T150000
DTEND;TZID=America/Detroit:20241113T160000
SUMMARY:Presentation:Special Physics Department Event
DESCRIPTION:TBA
UID:128911-21861888@events.umich.edu
URL:https://events.umich.edu/event/128911
CLASS:PUBLIC
STATUS:CONFIRMED
CATEGORIES:Physics
LOCATION:West Hall - 340
CONTACT:
END:VEVENT
BEGIN:VEVENT
DTSTAMP:20241110T165958
DTSTART;TZID=America/Detroit:20241113T150000
DTEND;TZID=America/Detroit:20241113T155000
SUMMARY:Workshop / Seminar:Student Number Theory: Deligne-Lusztig Induction
DESCRIPTION:Deligne-Lusztig theory gives a way to construct and study the characters of finite groups of Lie type via l-adic cohomology. In this talk\, we will sketch this construction and explain their basic properties with some examples.
UID:128985-21861977@events.umich.edu
URL:https://events.umich.edu/event/128985
CLASS:PUBLIC
STATUS:CONFIRMED
CATEGORIES:Mathematics
LOCATION:East Hall - 3088
CONTACT:
END:VEVENT
BEGIN:VEVENT
DTSTAMP:20241128T183128
DTSTART;TZID=America/Detroit:20241113T160000
DTEND;TZID=America/Detroit:20241113T164500
SUMMARY:Careers / Jobs:AEG Internship Program - Virtual Info Session
DESCRIPTION:AEG Info Session – November 13\, 2024 @ 4 PM (PDT) Join us to learn about AEG\, the world’s leading sports and live entertainment company! Operating in cities like Los Angeles\, New York\, Las Vegas\, San Francisco\, and Denver\, AEG is behind someof the most iconic festivals in the U.S.\, including Coachella and Stagecoach. From music festivals to global sports events and entertainment venues\, explore internship opportunities that offer hands-on experience in bringing these massive events to life!
UID:128234-21860462@events.umich.edu
URL:https://events.umich.edu/event/128234
CLASS:PUBLIC
STATUS:CONFIRMED
CATEGORIES:
LOCATION:
CONTACT:
END:VEVENT
END:VCALENDAR