BEGIN:VCALENDAR
VERSION:2.0
PRODID:-//UM//UM*Events//EN
CALSCALE:GREGORIAN
BEGIN:VTIMEZONE
TZID:America/Detroit
TZURL:http://tzurl.org/zoneinfo/America/Detroit
X-LIC-LOCATION:America/Detroit
BEGIN:DAYLIGHT
TZOFFSETFROM:-0500
TZOFFSETTO:-0400
TZNAME:EDT
DTSTART:20070311T020000
RRULE:FREQ=YEARLY;BYMONTH=3;BYDAY=2SU
END:DAYLIGHT
BEGIN:STANDARD
TZOFFSETFROM:-0400
TZOFFSETTO:-0500
TZNAME:EST
DTSTART:20071104T020000
RRULE:FREQ=YEARLY;BYMONTH=11;BYDAY=1SU
END:STANDARD
END:VTIMEZONE
BEGIN:VEVENT
DTSTAMP:20241113T003211
DTSTART;TZID=America/Detroit:20241029T170000
DTEND;TZID=America/Detroit:20241029T180000
SUMMARY:Careers / Jobs:WiSTEM2d Early In Career Panel
DESCRIPTION:We are inviting university students to participate in an Early STEM CareerPanel!&nbsp\;Participants will hear from female panelists working in a variety of roles withinJohnson &amp\; Johnson\, who will share their experiences with the transition from student toprofessional. The format will be open\, with questions from the audience encouraged!- Lindsay Baxter\, Product Development Engineer (Heart Recovery)- Yasemin Botas\, Senior Manufacturing Engineer (DePuy-Synthes)- Alyssa Cahill\, Commercial Quality Site Lead (Med Tech)- Molly Murnane\, Product Development Engineer (Heart Recovery)- Coralys Soto\, Process Engineer (Service) (DePuy-Synthes)&nbsp\;Date/Time:&nbsp\;October 29\, 2024 from 5:00 – 6:00 PM ESTLocation:&nbsp\;Zoom (Link to follow after registration is submitted)&nbsp\; &nbsp\; &nbsp\; &nbsp\; &nbsp\; &nbsp\; &nbsp\; &nbsp\; &nbsp\; &nbsp\; &nbsp\; &nbsp\; &nbsp\; &nbsp\; &nbsp\; &nbsp\; &nbsp\; &nbsp\; &nbsp\; &nbsp\; &nbsp\; &nbsp\; &nbsp\; &nbsp\;CLICK HERE TO REGISTER NOW!&nbsp\;&nbsp\;Can’t make this event? Be on the lookout for details on upcoming panel discussions in 2025!&nbsp\;&nbsp\;About WiSTEM2DIn 2015\, Johnson &amp\; Johnson launched the WiSTEM2D(Women in Science\, Technology\, Engineering\, Mathematics\, Manufacturing\, and Design) initiative. Led by a network of volunteers from across J&amp\;J and its local operating sites\, this ambitious initiative is a multifaceted approach to support and inspire girls and women of all ages in their pursuit of STEM2D studies and careers.
UID:128323-21860654@events.umich.edu
URL:https://events.umich.edu/event/128323
CLASS:PUBLIC
STATUS:CONFIRMED
CATEGORIES:
LOCATION:
CONTACT:
END:VEVENT
BEGIN:VEVENT
DTSTAMP:20241024T103510
DTSTART;TZID=America/Detroit:20241029T170000
DTEND;TZID=America/Detroit:20241029T183000
SUMMARY:Lecture / Discussion:Zen Mind\, Beginners Mind
DESCRIPTION:What if the ultimate destination of Buddhist practice is right in front of us? What if what we have been seeking has always been revealed? If our goal is the totality of all experience—being one with everything—then it cannot be fully known\, as we can only grasp a part\, never the whole. How\, then\, can we access that which can never be known? Why is this possible in the Zen mindset of Beginner’s Mind?\n\nHaemin Sunim is a Korean Zen Buddhist teacher and the author of two Sunday Times bestselling books: *The Things You Can See Only When You Slow Down* and *Love for Imperfect Things*. His works have sold over 6 million copies worldwide and are translated into 38 languages. They serve as popular guides for both meditation and navigating the challenges of modern life. When not traveling to share his teachings\, he resides in Seoul\, where he founded the Dharma Illumination Zen Center\, offering meditation retreats and counseling programs.
UID:127891-21859885@events.umich.edu
URL:https://events.umich.edu/event/127891
CLASS:PUBLIC
STATUS:CONFIRMED
CATEGORIES:Inclusion,Workshop,Well-being,Teaching,Talk,Religious,Religion,Rackham,Presentation,Multicultural,Mindfulness,Media,Lecture,Korea,intercultural,In Person,Humanities,global engagement,global,Free,Diversity Equity and Inclusion,Diversity,Discussion,Culture,conference,Buddhism,Books,Asian Languages And Cultures,Asia
LOCATION:Rackham Graduate School (Horace H.) - Amphitheatre
CONTACT:
END:VEVENT
BEGIN:VEVENT
DTSTAMP:20241029T180010
DTSTART;TZID=America/Detroit:20241029T173000
DTEND;TZID=America/Detroit:20241029T183000
SUMMARY:Other:Flag Football practice!
DESCRIPTION:Flag Football practice!
UID:126062-21856470@events.umich.edu
URL:https://events.umich.edu/event/126062
CLASS:PUBLIC
STATUS:CONFIRMED
CATEGORIES:
LOCATION:Pattengill Elementary
CONTACT:
END:VEVENT
END:VCALENDAR