BEGIN:VCALENDAR
VERSION:2.0
PRODID:-//UM//UM*Events//EN
CALSCALE:GREGORIAN
BEGIN:VTIMEZONE
TZID:America/Detroit
TZURL:http://tzurl.org/zoneinfo/America/Detroit
X-LIC-LOCATION:America/Detroit
BEGIN:DAYLIGHT
TZOFFSETFROM:-0500
TZOFFSETTO:-0400
TZNAME:EDT
DTSTART:20070311T020000
RRULE:FREQ=YEARLY;BYMONTH=3;BYDAY=2SU
END:DAYLIGHT
BEGIN:STANDARD
TZOFFSETFROM:-0400
TZOFFSETTO:-0500
TZNAME:EST
DTSTART:20071104T020000
RRULE:FREQ=YEARLY;BYMONTH=11;BYDAY=1SU
END:STANDARD
END:VTIMEZONE
BEGIN:VEVENT
DTSTAMP:20241025T124031
DTSTART;TZID=America/Detroit:20241029T173000
DTEND;TZID=America/Detroit:20241029T184500
SUMMARY:Lecture / Discussion:Language & Politics
DESCRIPTION:Language Matters will be hosting a lightning talk event on Tuesday\, October 29 from 5:30 to 6:45 pm in North Quad 2435. Three speakers from a variety of different backgrounds will give short talks about our theme of Language and Politics. Attendees will then have the chance to further discuss the topic with the speakers and ask questions. Pizza and beverages will be provided.\n\nWe hope you can join us for this enlightening discussion!
UID:128318-21860663@events.umich.edu
URL:https://events.umich.edu/event/128318
CLASS:PUBLIC
STATUS:CONFIRMED
CATEGORIES:
LOCATION:North Quad - 2435
CONTACT:
END:VEVENT
BEGIN:VEVENT
DTSTAMP:20241029T172039
DTSTART;TZID=America/Detroit:20241029T173000
DTEND;TZID=America/Detroit:20241029T183000
SUMMARY:Workshop / Seminar:Rackham Walk to the Polls
DESCRIPTION:
UID:128260-21860518@events.umich.edu
URL:https://events.umich.edu/event/128260
CLASS:PUBLIC
STATUS:CONFIRMED
CATEGORIES:Sessions
LOCATION:Rackham Building - front steps
CONTACT:
END:VEVENT
BEGIN:VEVENT
DTSTAMP:20241029T172039
DTSTART;TZID=America/Detroit:20241029T173000
DTEND;TZID=America/Detroit:20241029T193000
SUMMARY:Workshop / Seminar:RMF Movie Night + Pumpkin Decorating: October 29\, 2024
DESCRIPTION:Come out to celebrate Fall at our RMF Movie Night & Pumpkin Decorating event.  Dinner and Fall treats will be provided.
UID:127182-21858627@events.umich.edu
URL:https://events.umich.edu/event/127182
CLASS:PUBLIC
STATUS:CONFIRMED
CATEGORIES:Sessions
LOCATION:
CONTACT:
END:VEVENT
END:VCALENDAR