BEGIN:VCALENDAR
VERSION:2.0
PRODID:-//UM//UM*Events//EN
CALSCALE:GREGORIAN
BEGIN:VTIMEZONE
TZID:America/Detroit
TZURL:http://tzurl.org/zoneinfo/America/Detroit
X-LIC-LOCATION:America/Detroit
BEGIN:DAYLIGHT
TZOFFSETFROM:-0500
TZOFFSETTO:-0400
TZNAME:EDT
DTSTART:20070311T020000
RRULE:FREQ=YEARLY;BYMONTH=3;BYDAY=2SU
END:DAYLIGHT
BEGIN:STANDARD
TZOFFSETFROM:-0400
TZOFFSETTO:-0500
TZNAME:EST
DTSTART:20071104T020000
RRULE:FREQ=YEARLY;BYMONTH=11;BYDAY=1SU
END:STANDARD
END:VTIMEZONE
BEGIN:VEVENT
DTSTAMP:20241023T141504
DTSTART;TZID=America/Detroit:20241029T180000
DTEND;TZID=America/Detroit:20241029T200000
SUMMARY:Social / Informal Gathering:3rd Annual Wolverine Mix and Mingle
DESCRIPTION:Date: Tuesday\, October 29th\nTime: 6-8pm\nLocation: Trotter Multicultural Center\n\nRSVP Link: https://myumi.ch/XGkwn \n\nWe’re excited to invite you to a powerful evening of community building and connection with fellow URM/BIPOC students! Join us in collaboration with the Trotter Multicultural Center\, the Office of Academic Multicultural Initiatives (OAMI)\, Spectrum Center and the Multi-Ethnic Student Affairs (MESA) office for dinner\, dialogue\, and an opportunity to share your experiences navigating life at a predominantly white institution.\n\nLet’s come together to build community\, create a welcoming space\, and uplift each other. We can’t wait to see you there!
UID:128268-21860526@events.umich.edu
URL:https://events.umich.edu/event/128268
CLASS:PUBLIC
STATUS:CONFIRMED
CATEGORIES:Multicultural,Undergraduate Students,Undergraduate,Networking,Diversity Equity And Inclusion,Community
LOCATION:Trotter Multicultural Center - Ground Level (Multipurpose Rooms)
CONTACT:
END:VEVENT
BEGIN:VEVENT
DTSTAMP:20241029T180017
DTSTART;TZID=America/Detroit:20241029T180000
DTEND;TZID=America/Detroit:20241029T200000
SUMMARY:Social / Informal Gathering:Ann Arbor Town Hall
DESCRIPTION:America is more politically divided than ever\, yet many voters' voices go unheard. It seems we can't bridge the gap between our peers on some opposite side of the aisle to get things done. This is a symptom of our broken elections\, but if we come together\, we can work to fix it. Come join your fellow students and citizens at a Town Hall for a presentation of the problems with our current voting system and our ambitious plan for the solution: Ranked Choice Voting. Please invite your friends and fellow peers as well. At our Town Hall\, you can ask any and all of your democracy reform questions. Come and meet our volunteers and other reform-minded citizens. This event is part of Rank MI Vote's \"40 Town Halls in 40 Days\" campaign taking place across the state this September and October. 
UID:128162-21860257@events.umich.edu
URL:https://events.umich.edu/event/128162
CLASS:PUBLIC
STATUS:CONFIRMED
CATEGORIES:
LOCATION: Ann Arbor District Library - Downtown - 4th Floor Meeting Room
CONTACT:
END:VEVENT
BEGIN:VEVENT
DTSTAMP:20241029T180017
DTSTART;TZID=America/Detroit:20241029T180000
DTEND;TZID=America/Detroit:20241029T200000
SUMMARY:Social / Informal Gathering:Ann Arbor Town Hall
DESCRIPTION:America is more politically divided than ever\, yet many voters' voices go unheard. It seems we can't bridge the gap between our peers on some opposite side of the aisle to get things done. This is a symptom of our broken elections\, but if we come together\, we can work to fix it. Come join your fellow students and citizens at a Town Hall for a presentation of the problems with our current voting system and our ambitious plan for the solution: Ranked Choice Voting. Please invite your friends and fellow peers as well. At our Town Hall\, you can ask any and all of your democracy reform questions. Come and meet our volunteers and other reform-minded citizens. This event is part of Rank MI Vote's \"40 Town Halls in 40 Days\" campaign taking place across the state this September and October. 
UID:128163-21860258@events.umich.edu
URL:https://events.umich.edu/event/128163
CLASS:PUBLIC
STATUS:CONFIRMED
CATEGORIES:
LOCATION: Ann Arbor District Library - Downtown
CONTACT:
END:VEVENT
END:VCALENDAR