BEGIN:VCALENDAR
VERSION:2.0
PRODID:-//UM//UM*Events//EN
CALSCALE:GREGORIAN
BEGIN:VTIMEZONE
TZID:America/Detroit
TZURL:http://tzurl.org/zoneinfo/America/Detroit
X-LIC-LOCATION:America/Detroit
BEGIN:DAYLIGHT
TZOFFSETFROM:-0500
TZOFFSETTO:-0400
TZNAME:EDT
DTSTART:20070311T020000
RRULE:FREQ=YEARLY;BYMONTH=3;BYDAY=2SU
END:DAYLIGHT
BEGIN:STANDARD
TZOFFSETFROM:-0400
TZOFFSETTO:-0500
TZNAME:EST
DTSTART:20071104T020000
RRULE:FREQ=YEARLY;BYMONTH=11;BYDAY=1SU
END:STANDARD
END:VTIMEZONE
BEGIN:VEVENT
DTSTAMP:20241113T003205
DTSTART;TZID=America/Detroit:20241029T180000
DTEND;TZID=America/Detroit:20241029T193000
SUMMARY:Careers / Jobs:Careers in Accounting 2024
DESCRIPTION:🐝 Join hellohive and KPMG\, Goldman Sachs\, and Houlihan Lokey on Tuesday\, October 29th from 6-7:30 pm ET for a virtual program that explores the world of accounting. Attendees will get asense of the accounting-focused opportunities that are available at thesefirms\, plus a good idea of what diversity looks like at the firm in bothindividual team members and job functions. Panelists will share their personal stories and career trajectories within the accounting function\, as well as descriptions of the firm\, opportunities the firm has available toundergraduate or recent graduate college students\, the DEI culture and values at the firm and how these values are embodied on the day-to-day. Attendees Will Get a Chance To:🎉 Gain visibility in front of several leading firms as a potential employer in accounting!📝 Learn about the skills required to enter accounting roles and how you can best set yourself up for success in an accounting career across various job functions👋 Meet senior executives\, recruiters\, and recent graduates at the firm\, and learn about how their career paths brought them to where they are today
UID:128219-21860447@events.umich.edu
URL:https://events.umich.edu/event/128219
CLASS:PUBLIC
STATUS:CONFIRMED
CATEGORIES:
LOCATION:
CONTACT:
END:VEVENT
BEGIN:VEVENT
DTSTAMP:20241028T092955
DTSTART;TZID=America/Detroit:20241029T180000
DTEND;TZID=America/Detroit:20241029T190000
SUMMARY:Presentation:Dinner for Democracy: Ballot Initiatives
DESCRIPTION:When you vote\, you don’t just vote for candidates. You also get the chance to vote for local mileages and ballot initiatives. These are at the end of the ballot so make sure you go through the entire ballot! This year Ann Arbor voters will be voting multiple mileages and four separate ballot initiatives.\n\nJoin Turn Up Turnout for a nonpartisan\, educational presentation on ballot initiatives. FREE FOOD provided. \n\n Register here: https://sessions.studentlife.umich.edu/track/event/session/81557
UID:128361-21860725@events.umich.edu
URL:https://events.umich.edu/event/128361
CLASS:PUBLIC
STATUS:CONFIRMED
CATEGORIES:In Person,Food,Free,Government,Discussion,Politics,Voting,Dinner,Democratic Engagement,Democracy,Civic Engagement
LOCATION:Weill Hall (Ford School) - 5240
CONTACT:
END:VEVENT
BEGIN:VEVENT
DTSTAMP:20241017T155857
DTSTART;TZID=America/Detroit:20241029T180000
DTEND;TZID=America/Detroit:20241029T193000
SUMMARY:Recreational / Games:First-Gens @ UM Student Organization Pumpkin Carving Event
DESCRIPTION:Join First-Gens @ UM student organization for a fall community event of pumpkin carving!
UID:127995-21860012@events.umich.edu
URL:https://events.umich.edu/event/127995
CLASS:PUBLIC
STATUS:CONFIRMED
CATEGORIES:first-generation,Firstgenweek,First-gen-week
LOCATION:Student Activities Building - First-Gen Gateway, located on the 3rd floor in the Office of Academic Multicultural Initiatives
CONTACT:
END:VEVENT
END:VCALENDAR