BEGIN:VCALENDAR
VERSION:2.0
PRODID:-//UM//UM*Events//EN
CALSCALE:GREGORIAN
BEGIN:VTIMEZONE
TZID:America/Detroit
TZURL:http://tzurl.org/zoneinfo/America/Detroit
X-LIC-LOCATION:America/Detroit
BEGIN:DAYLIGHT
TZOFFSETFROM:-0500
TZOFFSETTO:-0400
TZNAME:EDT
DTSTART:20070311T020000
RRULE:FREQ=YEARLY;BYMONTH=3;BYDAY=2SU
END:DAYLIGHT
BEGIN:STANDARD
TZOFFSETFROM:-0400
TZOFFSETTO:-0500
TZNAME:EST
DTSTART:20071104T020000
RRULE:FREQ=YEARLY;BYMONTH=11;BYDAY=1SU
END:STANDARD
END:VTIMEZONE
BEGIN:VEVENT
DTSTAMP:20241025T153356
DTSTART;TZID=America/Detroit:20241029T183000
DTEND;TZID=America/Detroit:20241029T210000
SUMMARY:Other:Haunted Histories at the Clements Library
DESCRIPTION:Join us for an open-house event from 6:30 to 9:00 PM on October 29\, 2024 at the Clements Library. At 7:00pm and again at 8:30pm\, Dr. Paul Erickson (Randolph G. Adams Director of the William L. Clements Library) will host a fireside chat on true crime & horror. Space for the talk is limited\, so register today to reserve your spot. Throughout the evening\, enjoy spooky decor in the Avenir Foundation Reading Room\, prizes for costumes\, a special true crime-inspired pop-up exhibit\, and a murder mystery to solve!
UID:127673-21859462@events.umich.edu
URL:https://events.umich.edu/event/127673
CLASS:PUBLIC
STATUS:CONFIRMED
CATEGORIES:american history,History,Spooky,american culture
LOCATION:William Clements Library
CONTACT:
END:VEVENT
BEGIN:VEVENT
DTSTAMP:20241013T222442
DTSTART;TZID=America/Detroit:20241029T190000
DTEND;TZID=America/Detroit:20241029T210000
SUMMARY:Community Service:BMEC: Menstrual Kit Making
DESCRIPTION:This event is open to people in the UMich community\, who are interested in maternal/women's health. Join us in making menstrual hygiene kits to donate to local shelters to spread awareness\, and help improve access to menstrual hygiene for people in crisis.
UID:127757-21859660@events.umich.edu
URL:https://events.umich.edu/event/127757
CLASS:PUBLIC
STATUS:CONFIRMED
CATEGORIES:Pre Med,Women's Studies,Well-being,Student Org,Social Impact,Public Policy,Public Health,Psychology,Pre-Health,Medicine,In Person,Free,Discussion,Community Service,African American
LOCATION:Trotter Multicultural Center
CONTACT:
END:VEVENT
BEGIN:VEVENT
DTSTAMP:20241113T003156
DTSTART;TZID=America/Detroit:20241029T190000
DTEND;TZID=America/Detroit:20241029T200000
SUMMARY:Careers / Jobs:Cornell Master of Engineering (M.Eng.) Virtual Information Session
DESCRIPTION:Come to the Cornell University Master of Engineering (M.Eng.) Virtual Information Session!• Discover how you can enhance your career and earning potential with a professional master's degree• Interact with faculty &amp\; staff • Learn about the benefits of a Cornell educationOne of our 14 programs may be right for you!Anyone with a STEM background and interested in working in industry is encouraged to attend.Register by 10/28: https://cornell.ca1.qualtrics.com/jfe/form/SV_56j7Y4jzqlTByKiA Zoom link will be sent to you before the event.
UID:127943-21859959@events.umich.edu
URL:https://events.umich.edu/event/127943
CLASS:PUBLIC
STATUS:CONFIRMED
CATEGORIES:
LOCATION:
CONTACT:
END:VEVENT
END:VCALENDAR