BEGIN:VCALENDAR
VERSION:2.0
PRODID:-//UM//UM*Events//EN
CALSCALE:GREGORIAN
BEGIN:VTIMEZONE
TZID:America/Detroit
TZURL:http://tzurl.org/zoneinfo/America/Detroit
X-LIC-LOCATION:America/Detroit
BEGIN:DAYLIGHT
TZOFFSETFROM:-0500
TZOFFSETTO:-0400
TZNAME:EDT
DTSTART:20070311T020000
RRULE:FREQ=YEARLY;BYMONTH=3;BYDAY=2SU
END:DAYLIGHT
BEGIN:STANDARD
TZOFFSETFROM:-0400
TZOFFSETTO:-0500
TZNAME:EST
DTSTART:20071104T020000
RRULE:FREQ=YEARLY;BYMONTH=11;BYDAY=1SU
END:STANDARD
END:VTIMEZONE
BEGIN:VEVENT
DTSTAMP:20241009T115449
DTSTART;TZID=America/Detroit:20241029T190000
DTEND;TZID=America/Detroit:20241029T210000
SUMMARY:Recreational / Games:MGC Euchre Tournament
DESCRIPTION:Michigan Games and Cards is hosting a Euchre tournament on 10/29 at 7pm in 3427 Mason Hall!\n\nCome join us and get into the Halloween spirit with EECS 280’s worst nightmare! If you don't have a partner\, that's ok we can help you find one at the event. If you want to know more about MGC and the events we run\, you can join our email list linked below.
UID:127570-21859340@events.umich.edu
URL:https://events.umich.edu/event/127570
CLASS:PUBLIC
STATUS:CONFIRMED
CATEGORIES:Games,In Person,Social,Student Org
LOCATION:Mason Hall - 3427
CONTACT:
END:VEVENT
BEGIN:VEVENT
DTSTAMP:20241113T003158
DTSTART;TZID=America/Detroit:20241029T190000
DTEND;TZID=America/Detroit:20241029T200000
SUMMARY:Careers / Jobs:Teach For America Ignite Fellowship Info Session
DESCRIPTION:Interested in jumpstarting a purpose-driven career and making an impact with elementary\, middle school\, or high school students this coming spring? Join Teach For America to learn about a paid\, part-time\, virtual tutoring opportunity as a TFA Ignite Fellow.As a TFA Ignite Fellow\, you become a catalyst for change\, driving educational success for the students you work with. Our program is designed to break down barriers for students in low income communities\, creating limitless learning opportunities. Your efforts will help students achieve their full potential\, making education accessible and impactful.Looking for opportunities to gain real world experience and grow as a professional? Join our info session to learn details about the fellowship experience and application process.*Open to all undergraduate and graduate students and accepting applications for Spring 2025**All majors welcome*
UID:127954-21859970@events.umich.edu
URL:https://events.umich.edu/event/127954
CLASS:PUBLIC
STATUS:CONFIRMED
CATEGORIES:
LOCATION:
CONTACT:
END:VEVENT
BEGIN:VEVENT
DTSTAMP:20241121T025448
DTSTART;TZID=America/Detroit:20241029T190000
DTEND;TZID=America/Detroit:20241029T200000
SUMMARY:Social / Informal Gathering:That Tuesday Thing: Christmas and Advent Celebration
DESCRIPTION:That Tuesday Thing is a community gathering to engage in various study opportunities or fun activities.\nThis Tuesday\, we will celebrate Advent and Christmas by decorating the tree\, watching a festive movie\, and enjoying good food. All are welcome to come even if you have not previously attended any That Tuesday Thing events!
UID:124923-21854057@events.umich.edu
URL:https://events.umich.edu/event/124923
CLASS:PUBLIC
STATUS:CONFIRMED
CATEGORIES:Holiday,Religious,Social
LOCATION:Off Campus Location - Wesley Lounge
CONTACT:
END:VEVENT
END:VCALENDAR