BEGIN:VCALENDAR
VERSION:2.0
PRODID:-//UM//UM*Events//EN
CALSCALE:GREGORIAN
BEGIN:VTIMEZONE
TZID:America/Detroit
TZURL:http://tzurl.org/zoneinfo/America/Detroit
X-LIC-LOCATION:America/Detroit
BEGIN:DAYLIGHT
TZOFFSETFROM:-0500
TZOFFSETTO:-0400
TZNAME:EDT
DTSTART:20070311T020000
RRULE:FREQ=YEARLY;BYMONTH=3;BYDAY=2SU
END:DAYLIGHT
BEGIN:STANDARD
TZOFFSETFROM:-0400
TZOFFSETTO:-0500
TZNAME:EST
DTSTART:20071104T020000
RRULE:FREQ=YEARLY;BYMONTH=11;BYDAY=1SU
END:STANDARD
END:VTIMEZONE
BEGIN:VEVENT
DTSTAMP:20241105T131555
DTSTART;TZID=America/Detroit:20241120T130000
DTEND;TZID=America/Detroit:20241120T160000
SUMMARY:Conference / Symposium:2024 Online Learning Showcase
DESCRIPTION:The Center for Academic Innovation invites interested University of Michigan faculty and staff to learn more about how online education is transforming teaching and learning at U-M. The Online Learning Showcase is an opportunity to learn more about how the center works with innovative partners to create open\, non-credit\, and for-credit online learning opportunities that remove barriers and are accessible to global learners at scale. \n\nWhether you’re interested in course development\, partnership opportunities\, or simply learning more about online education\, this event offers something for everyone. \n\nThe 2024 Innovation Showcase: Online Learning will feature opportunities to learn about: \n• Developing both open online courses\, certificates\, and for-credit programs that extend Michigan's educational reach.\n• Creating innovative program portfolios that meet diverse learner needs.\n• Collaborating with instructors to explore innovative pedagogical approaches with support from the center’s learning experience and media production design staff. \n• Extending the reach of exceptional learning experiences for our global community through Michigan Online.\n• Engaging with teams at the center to create learning experiences that are accessible at scale to lifelong learners worldwide.\n\nRegister today to join the conversation shaping the future of online education at Michigan. \n\n\n*About Innovation Showcases *\nMeet the innovators building the future of education. Innovation Showcases are one-day events that feature the students\, faculty\, and staff who are creating the research\, technology\, and curricular innovations shaping the future of how we teach and learn.
UID:128423-21861607@events.umich.edu
URL:https://events.umich.edu/event/128423
CLASS:PUBLIC
STATUS:CONFIRMED
CATEGORIES:Academic Innovation,Academic Technology At Michigan,Faculty,Michigan Online,Moocs,Open House,Technology
LOCATION:Center for Academic Innovation
CONTACT:
END:VEVENT
BEGIN:VEVENT
DTSTAMP:20241205T123104
DTSTART;TZID=America/Detroit:20241120T130000
DTEND;TZID=America/Detroit:20241120T140000
SUMMARY:Careers / Jobs:Clinical Research Coordinator Virtual Careers Webinar 11/20
DESCRIPTION:Join our Mayo Clinic virtual Research careers webinar whereyou will have the opportunity to learn about our Clinical Research Coordinator role. This event will provide attendees with a unique opportunity tolearn about various career paths\, ask questions\, and gain a deeper understanding of the dynamic world of medical research. Together\, we aim to inspire the next generation of researchers and contribute to the continued advancement of medical science.
UID:126140-21856591@events.umich.edu
URL:https://events.umich.edu/event/126140
CLASS:PUBLIC
STATUS:CONFIRMED
CATEGORIES:
LOCATION:
CONTACT:
END:VEVENT
BEGIN:VEVENT
DTSTAMP:20241205T123119
DTSTART;TZID=America/Detroit:20241120T130000
DTEND;TZID=America/Detroit:20241120T140000
SUMMARY:Careers / Jobs:NNSA Graduate Fellowship Program Information Session - General
DESCRIPTION:Register in advance for this webinar: https://pnnl.zoomgov.com/webinar/register/WN_zQ3_nRQmTh20_OU0EXLlMw#/registration Are you a curious person looking for a fulfilling and impactful career? Do you seek to address challenges atthe forefront of our national security landscape? Whether you are majoring in business\, the sciences\, policy\, or engineering\, the NNSA GraduateFellowship Program may have an opportunity for you! Join us to learn more!Please join to learn more about this outstanding opportunity!
UID:128388-21860769@events.umich.edu
URL:https://events.umich.edu/event/128388
CLASS:PUBLIC
STATUS:CONFIRMED
CATEGORIES:
LOCATION:
CONTACT:
END:VEVENT
END:VCALENDAR