BEGIN:VCALENDAR
VERSION:2.0
PRODID:-//UM//UM*Events//EN
CALSCALE:GREGORIAN
BEGIN:VTIMEZONE
TZID:America/Detroit
TZURL:http://tzurl.org/zoneinfo/America/Detroit
X-LIC-LOCATION:America/Detroit
BEGIN:DAYLIGHT
TZOFFSETFROM:-0500
TZOFFSETTO:-0400
TZNAME:EDT
DTSTART:20070311T020000
RRULE:FREQ=YEARLY;BYMONTH=3;BYDAY=2SU
END:DAYLIGHT
BEGIN:STANDARD
TZOFFSETFROM:-0400
TZOFFSETTO:-0500
TZNAME:EST
DTSTART:20071104T020000
RRULE:FREQ=YEARLY;BYMONTH=11;BYDAY=1SU
END:STANDARD
END:VTIMEZONE
BEGIN:VEVENT
DTSTAMP:20241111T115222
DTSTART;TZID=America/Detroit:20241029T190000
DTEND;TZID=America/Detroit:20241029T210000
SUMMARY:Social / Informal Gathering:The Connector Game Night
DESCRIPTION:Join the Connector Community Assistants for a trivia and game night featuring all of your favorite games such as life-size Connect 4\, jumbo Jenga\, Loteria\, and more! Free popcorn for all attendees and prizes for trivia winners. We hope to see you there.
UID:125688-21855585@events.umich.edu
URL:https://events.umich.edu/event/125688
CLASS:PUBLIC
STATUS:CONFIRMED
CATEGORIES:Community,Games,Social
LOCATION:The Connector - 1520
CONTACT:
END:VEVENT
BEGIN:VEVENT
DTSTAMP:20240912T093457
DTSTART;TZID=America/Detroit:20241029T193000
DTEND;TZID=America/Detroit:20241029T213000
SUMMARY:Film Screening:CHOP China Ongoing Perspectives Film Series | Double Feature: \"Up Down\" and \"A Filmless Festival
DESCRIPTION:Special in-person guest appearance by Wang Wo\, critically acclaimed screenwriter\, film director and producer.\n   “Up Down” 2007 上下 (12 minutes). Where there’s an up\, there’s a down. That’s how things go.\n   “A Filmless Festival” 2015 (85 minutes). A documentary about the preparation and forced cancellation of the 11th Beijing Independent Film Festival in 2014.\n\nIf there is anything we can do to make this event accessible to you\, please contact us at chinese.studies@umich.edu. Please be aware that advance notice is necessary as some accommodations may require more time for the university to arrange.
UID:126261-21856812@events.umich.edu
URL:https://events.umich.edu/event/126261
CLASS:PUBLIC
STATUS:CONFIRMED
CATEGORIES:Chinese Studies,Film Series,Film
LOCATION:Modern Languages Building - MLB 2
CONTACT:
END:VEVENT
BEGIN:VEVENT
DTSTAMP:20240801T114715
DTSTART;TZID=America/Detroit:20241029T200000
SUMMARY:Performance:Emily Slomovits and Friends
DESCRIPTION:Emily Slomovits began playing violin at the age of seven\, and has been joining her father and uncle (the duo Gemini) on stage since she was eight years old. She studied classical violin for more than ten years\, adding jazz and folk fiddle styles to her repertoire along the way. In her early teens she began singing and playing guitar and has since then been performing solo\, with Gemini\, and in groups ranging from classical string quartets to folk and country bands. You may also have seen her play with the Encore Theater\, Performance Network\, and productions of Shakespeare in the Arb.
UID:123676-21851352@events.umich.edu
URL:https://events.umich.edu/event/123676
CLASS:PUBLIC
STATUS:CONFIRMED
CATEGORIES:Ark,Mutotix
LOCATION:ARK Reserved
CONTACT:
END:VEVENT
END:VCALENDAR